Workbook

Sheet 2024 Legal Max
G1: Col 1 | K1: Col 2 | O1: Col 3 | P1: Col 4 | Q1: Col 5 | R1: Col 6 | S1: Col 7 | T1: Col 8 | U1: Col 9 | V1: Col 10 | W1: Col 11 | X1: Col 12 | Y1: Col 13 | Z1: Col 14 | AA1: Col 15 | AB1: Col 16 | AC1: Col 17 | AD1: Col 18 | AE1: Col 19 | AF1: Col 20 | AG1: Col 21 | AH1: Col 22 | AI1: Col 23 | AJ1: Col 24 | AK1: Col 25 | AL1: Col 26 | AM1: Col 27 | AN1: Col 28 | AO1: Col 29 | AP1: Col 30 | AQ1: Col 31 | AR1: Col 32 | AS1: Col 33 | AT1: Col 34 | AU1: Col 35 | AV1: Col 36 | AW1: Col 37 | AX1: Col 38 | BB1: Col 39 | BC1: Col 40 | BD1: Col 41 | BE1: Col 42 | BF1: Col 43 | BG1: Col 44 | BH1: Col 45 | BI1: Col 46 | BJ1: Col 47 | BK1: Col 48 | BL1: Col 49 | BM1: Col 50 | BN1: Col 51 | BO1: Col 52 | BP1: Col 53 | BQ1: Col 54 | BR1: Col 55 | BS1: Col 56 | BT1: Col 57 | BU1: Col 58 | BV1: Col 59 | BW1: Col 60 | BX1: Col 61 | BY1: Col 62 | BZ1: Col 63 | CA1: Col 64 | CB1: Col 65 | CC1: Col 66 | CD1: Col 67 | CE1: Col 68 | CF1: Col 69 | CG1: Col 70 | CH1: Col 71 | CI1: Col 72 | CJ1: Col 73 | CK1: Col 74 | CL1: Col 75 | CM1: Col 76 | CN1: Col 77 | CO1: Col 78 | CP1: Col 79 | CQ1: Col 80 | CR1: Col 81 | CS1: Col 82 | CT1: Col 83 | CU1: Col 84 | CV1: Col 85
B2: 45470 | D2: upadated | E2: N/A | F2: upadated | P2: (Info Only) | Q2: (Info Only) | R2: (Info Only) | AR2: (Info Only) | AS2: (Info Only) | BB2: (Info Only) | BQ2: Table I - Low & High Enrollment | CA2: Table II - Transportation | CJ2: Table III - Tax Appeal Amounts | CO2: Table IV High Density At Risk | CS2: LOB Transfers
B3: County | C3: District Name | D3: FTE Enroll (excl 4yr old at-risk & virtual) 9/20/2020 | E3: FTE Enroll Tax Credit Scholarship (TCS) excl 4yr old at-risk & virtual - 9/20/2020 | F3: FTE Enroll (excl 4yr old at-risk & virtual) 2/20/2021 | G3: FTE Enroll (excl 4yr old At-Risk & Virtual) 9/20/2020 2/20/2021 | H3: FTE Enroll (excl 4yr old at-risk & virtual) 9/20/2021 | I3: FTE Enroll Tax Credit Scholarship (TCS) excl 4yr old at-risk & virtual - 9/20/2021 | J3: FTE Enroll (excl 4yr old at-risk & virtual) 2/20/2022 | K3: FTE Enroll (excl Pre-K At-Risk & Virtual) 9/20/2021 2/20/2022 | L3: FTE Enroll (excl 4yr old at-risk & virtual) 9/20/2022 | M3: FTE Enroll Tax Credit Scholarship (TCS) excl 4yr old at-risk & virtual - 9/20/2022 | N3: FTE Enroll (excl 4yr old at-risk & virtual) 2/20/2023 | O3: FTE Enroll (excl Pre-K At-Risk & Virtual) 9/20/2022 2/20/2023 | P3: FTE Enroll (excl Pre-K At-Risk & Virtual) 9/20/2023 | Q3: FTE Enroll (excl Pre-K At-Risk & Virtual) 2/20/2024 | R3: FTE Enroll (excl Pre-K At-Risk & Virtual) 9/20/2023 2/20/2024 | S3: Adjusted Enrollment | T3: Preschool-Aged At-Risk 9/20/2023 2/20/2024 | U3: Total Adjusted Enrollment (incl Pre-K AR) | V3: Low and High Enrollment WTD FTE | W3: Bilingual Contact Hours (9/20 + 2/20) | X3: Bilingual Contact Hours WTD FTE | Y3: Bilingual Headcount (9/20 + 2/20) | Z3: Bilingual Headcount WTD FTE | AA3: Bilingual (max Hrs or Hdct) WTD FTE | AB3: Career / Tech Ed Contact Hours (9/20 + 2/20) | AC3: Career / Tech Ed WTD FTE | AD3: Funded Headcount (excl Virtual, KAMS, JDC) (9/20 + 2/20) | AE3: Free Lunch (9/20 + 2/20) | AF3: At-Risk (Free Lunch) WTD FTE | AG3: High Density At-Risk (USD) | AH3: High Density At-Risk (School) | AI3: High Density At-Risk WTD FTE | AJ3: Transportation FTE > = 2.5 Miles (9/20 + 2/20) | AK3: Transportation State Aid | AL3: Transportation WTD FTE | AM3: Ancillary WTD FTE | AN3: Cost of Living WTD FTE | AO3: Special Education State Aid | AP3: Special Education WTD FTE | AQ3: KAMS FTE | AR3: WTD FTE (excl COLA; incl SPED) | AS3: WTD FTE (excl SPED) | AT3: Virtual Full-Time FTE ($5600) | AU3: Virtual Part-Time FTE ($2800) | AV3: Virtual Credits (20yrs & Older) ($709) | AW3: Virtual Credits (Dropout 19 & Under) ($709) | AX3: Virtual State Aid | AY3: Sequence Number | AZ3: Audit | BA3: Republished | BB3: Computed General Fund (excl SPED) | BC3: Computed General Fund (incl SPED) | BD3: Adopted General Fund | BE3: Legal Maximum General Fund (before reductions) | BF3: Prior Year Budget Law Violation | BG3: Current Year Transp Audit Adj | BH3: Prior Year Virtual Credits Audit Adj | BI3: Prior Year Total Reductions | BJ3: 2023-2024 Adjusted Legal General Fund Budget | BK3: 2023-2024 LOB Base General Fund | BL3: 2023-2024 LOB Authorized Percent | BM3: Computed Local Option Budget | BN3: Adopted Local Option Budget | BO3: Legal Maximum Local Option Budget | BP3: LOB Percent Used | BQ3: 0-99.9 | BU3: 100-299.9 | BY3: 300-1621.9 | BZ3: 1622 and higher | CA3: Area in Square Miles | CB3: Density Figure Range | CC3: Order ID | CD3: Per Capita | CE3: Base Change (Factor A) | CF3: Factor Per Capita Allowance (Factor B) | CG3: Factor per Capita times Constant (Factor C) | CH3: Factor per Capita Allowance times the Variable (Factor D) | CI3: Transportation Weighted FTE | CJ3: Board of Tax Appeals (Ancillary) | CK3: Form 150 - Board of Tax Appeals (Cost of Living) | CL3: Cost of Living Authorized Percent | CM3: Maximum Computed Cost of Living | CN3: Cost of Living Authority | CO3: Percent of Free Lunch (Current Year) | CP3: WTD FTE Free Lunch >=50% | CQ3: WTD FTE Free Lunch >=35% <50% | CR3: Total WTD FTE (inc. SPED) | CS3: LOB Transfer to At-Risk | CT3: LOB Transfer to Bilingual | CU3: General Fund Transfer To At-Risk | CV3: Total FTE Enrollment (incl Virtual)
A4: Total | C4: STATE TOTALS | D4: =SUM(D5:D290) -> 446279.5 | E4: =SUM(E5:E290) -> 205.2 | F4: =SUM(F5:F290) -> 580.4 | G4: =SUM(G5:G290) -> 446654.7 | H4: =SUM(H5:H290) -> 447667.9 | I4: =SUM(I5:I290) -> 330 | J4: =SUM(J5:J290) -> 470.9 | K4: =SUM(K5:K290) -> 447808.8 | ... AX4: =SUM(AX5:AX290) -> 55946494 | BB4: =SUM(BB5:BB290) -> 3495656326 | BC4: =SUM(BC5:BC290) -> 4011127709 | BD4: =SUM(BD5:BD290) -> 4108771802 | BE4: =SUM(BE5:BE290) -> 4011127201 | BF4: =SUM(BF5:BF290) -> 0 | BG4: =SUM(BG5:BG290) -> -1602010 | BH4: =SUM(BH5:BH290) -> -1389591 | BI4: =SUM(BI5:BI290) -> -2991601 | ... BK4: =SUM(BK5:BK290) -> 4017238956 | BL4: =SUM(BL5:BL290)/286 -> 0.3236 | BM4: =SUM(BM5:BM290) -> 1310731562 | BN4: =SUM(BN5:BN290) -> 1324113839 | BO4: =SUM(BO5:BO290) -> 1301876866 | BP4: =SUM(BP5:BP290)/286 -> 0.3205 | BQ4: =SUM(BQ5:BQ290) -> 748.8 | BU4: =SUM(BU5:BU290) -> 9110.4 | BY4: =SUM(BY5:BY290) -> 32345.4 | BZ4: =SUM(BZ5:BZ290) -> 11890.2 | CA4: =SUM(CA5:CA290) -> 82019.7 | CB4: =SUM(CB5:CB290) -> 1378.9 | CC4: =SUM(CC5:CC290) -> 7634 | CD4: =SUM(CD5:CD290) -> 302070 | CE4: =SUM(CE5:CE290) -> 349.3776 | CF4: =SUM(CF5:CF290) -> 91942210 | ... CN4: =SUM(CN5:CN290) -> 44823280 | CO4: =AE4/AD4 -> 0.4285 | CP4: =SUM(CP5:CP290) -> 11064.5 | CQ4: =SUM(CQ5:CQ290) -> 2295.4 | CR4: =SUM(CR5:CR290) -> 777354.8 | CS4: =SUM(CS5:CS290) -> 161907941 | CT4: =SUM(CT5:CT290) -> 15395123 | CU4: =SUM(CU5:CU290) -> 563296545 | CV4: =SUM(CV5:CV290) -> 461901.6
A5: 101 | B5: Neosho | C5: Erie-Galesburg | D5: 422.5 | F5: 0 | G5: =SUM(D5-E5+F5) -> 422.5 | H5: 419 | J5: 0 | K5: =SUM(H5-I5+J5) -> 419 | L5: 395.5 | N5: 0 | O5: =SUM(L5-M5+N5) -> 395.5 | P5: =IF(ISNA(VLOOKUP($CW5,'Audit Values'!$A:$BZ,2,FALSE)),'Preliminary SO66'!C4,VLOOKUP($CW5,'Audit Values'!$A:$BZ,76,FALSE)) -> 418 | Q5: =IF(ISNA(VLOOKUP($CW5,'Audit Values'!$A:$BZ,2,FALSE)),'Preliminary SO66'!F4,VLOOKUP($CW5,'Audit Values'!$A:$BZ,4,FALSE)) -> 0 | R5: =SUM(P5+Q5) -> 418 | S5: =IF('Military Provision'!I5="YES", MAX('2024 Legal Max'!O5,'2024 Legal Max'!K5,AVERAGE('2024 Legal Max'!G5,'2024 Legal Max'!K5,'2024 Legal Max'!O5)), MAX(O5, K5)) -> 419 | T5: =IF(ISNA(VLOOKUP($CW5,'Audit Values'!$A:$BX,2,FALSE)),'Preliminary SO66'!AL4,VLOOKUP($CW5,'Audit Values'!$A:$BX,59,FALSE)) -> 9.5 | U5: =S5+T5 -> 428.5 | V5: ='Low-High ENRL- 2023 HSubSB 113'!N8 -> 188.8 | W5: =IF(ISNA(VLOOKUP($CW5,'Audit Values'!$A:$BZ,2,FALSE)),'Preliminary SO66'!AM4,VLOOKUP($CW5,'Audit Values'!$A:$BZ,63,FALSE)) -> 0.7 | X5: =(W5/6)*'Weighting Factors'!$O$7 -> 0 | Y5: =IF(ISNA(VLOOKUP($CW5,'Audit Values'!$A:$BZ,2,FALSE)),'Preliminary SO66'!AN4,VLOOKUP($CW5,'Audit Values'!$A:$BZ,62,FALSE)) -> 4 | Z5: =Y5*'Weighting Factors'!$O$8 -> 0.7 | AA5: =MAX(X5,Z5) -> 0.7 | AB5: =IF(ISNA(VLOOKUP($CW5,'Audit Values'!$A:$BZ,2,FALSE)),'Preliminary SO66'!AO4,VLOOKUP($CW5,'Audit Values'!$A:$BZ,61,FALSE)) -> 132.7 | AC5: =AB5/6*'Weighting Factors'!$O$6 -> 11.1 | AD5: =IF(ISNA(VLOOKUP($CW5,'Audit Values'!$A:$BX,2,FALSE)),'Preliminary SO66'!AS4,VLOOKUP($CW5,'Audit Values'!$A:$BX,64,FALSE)) -> 439 | AE5: =IF(ISNA(VLOOKUP($CW5,'Audit Values'!$A:$BX,2,FALSE)),'Preliminary SO66'!AP4,VLOOKUP($CW5,'Audit Values'!$A:$BX,65,FALSE)) -> 234 | AF5: =IF(A5=207, AE5,(AE5))*'Weighting Factors'!$O$9 -> 113.3 | AG5: =MAX(CP5,CQ5) -> 24.6 | AH5: =IF(ISNA(VLOOKUP($CW5,'Audit Values'!$A:$BZ,2,FALSE)),'Preliminary SO66'!AG4,VLOOKUP($CW5,'Audit Values'!$A:$BZ,71,FALSE)) -> 22 | AI5: =MAX(AG5, AH5) -> 24.6 | AJ5: =IF(ISNA(VLOOKUP($CW5,'Audit Values'!$A:$BX,2,FALSE)),'Preliminary SO66'!AR4,VLOOKUP($CW5,'Audit Values'!$A:$BX,66,FALSE)) -> 181.5 | AK5: =CH5 -> 237241 | AL5: =AK5/'Weighting Factors'!$O$5 -> 46.6 | AM5: =CJ5/'Weighting Factors'!$O$5 -> 0 | AN5: =CN5/'Weighting Factors'!$O$5 -> 0 | AO5: 484836 | AP5: =AO5/'Weighting Factors'!$O$5 -> 95.3 | AQ5: =IF(ISNA(VLOOKUP($CW5,'Audit Values'!$A:$BX,2,FALSE)),'Preliminary SO66'!X4,VLOOKUP($CW5,'Audit Values'!$A:$BX,48,FALSE)) -> 0 | AR5: =SUM(U5+V5+AA5+AC5+AF5+AI5+AL5+AM5+AP5+AQ5) -> 908.9 | AS5: =SUM(U5+V5+AA5+AC5+AF5+AI5+AL5+AM5+AN5+AQ5) -> 813.6 | AT5: =IF(ISNA(VLOOKUP($CW5,'Audit Values'!$A$2:$BX$410,2,FALSE)),'Preliminary SO66'!AA4,VLOOKUP($CW5,'Audit Values'!$A$2:$BX$410,41,FALSE)) -> 6 | AU5: =IF(ISNA(VLOOKUP($CW5,'Audit Values'!$A$2:$BX$410,2,FALSE)),'Preliminary SO66'!AB4,VLOOKUP($CW5,'Audit Values'!$A$2:$BX$410,42,FALSE)) -> 0 | AV5: 0 | AW5: 0 | AX5: =SUM(AT5*'Weighting Factors'!$R$10)+('2024 Legal Max'!AU5*'Weighting Factors'!$R$11)+('2024 Legal Max'!AV5*'Weighting Factors'!$R$12)+('2024 Legal Max'!AW5*'Weighting Factors'!$R$12) -> 33600 | AY5: =IF(ISNA(VLOOKUP($CW5,'Audit Values'!$A$2:$BX$429,2,FALSE)),"",IF(AND('Weighting Factors'!G5>0,VLOOKUP($CW5,'Audit Values'!$A$2:$BX$429,51,FALSE)<'Weighting Factors'!G5),'Weighting Factors'!G5,VLOOKUP($CW5,'Audit Values'!$A$2:$BX$429,51,FALSE))) -> 19 | AZ5: =IF(ISNA(VLOOKUP($CW5,'Audit Values'!$A:$BY,2,FALSE)),"",VLOOKUP($CW5,'Audit Values'!$A:$BY,52,FALSE)) -> A | BA5: =IF('Weighting Factors'!F5="","",IF('Weighting Factors'!H5="Pending","PX","R")) -> R | BB5: =SUM((U5+V5+AA5+AC5+AF5+AI5+AL5+AM5+AQ5+AN5)*'Weighting Factors'!$O$5)+'2024 Legal Max'!AX5 -> 4173197 | BC5: =SUM((AR5+AN5)*'Weighting Factors'!$O$5)+AX5 -> 4658083 | BD5: =IF('Weighting Factors'!F5>0,'Weighting Factors'!F5,'Preliminary SO66'!AV4) -> 4743053 | BE5: =MIN(BC5,BD5) -> 4658083 | BF5: ='Weighting Factors'!E5 -> 0 | BG5: =Transportation!G5 -> 0 | BH5: =IF(ISNA(VLOOKUP($CW5,'Audit Values'!$A:$BW,2,FALSE)), 0, VLOOKUP($CW5,'Audit Values'!$A:$BW,75,FALSE)) -> -3545 | BI5: =SUM(BF5:BH5) -> -3545 | BJ5: =BE5+BI5 -> 4654538 | BK5: =SUM((U5+V5+AA5+AC5+AF5+AI5+AL5+AM5+AN5)*'Weighting Factors'!O$12)+(MAX(AO5,'Weighting Factors'!B5)) -> 4927716 | BL5: ='LOB%'!F3 -> 0.31 | BM5: =BK5*BL5 -> 1527592 | BN5: 1518158 | BO5: =MIN(BM5,BN5) -> 1518158 | BP5: =BO5/BK5 -> 0.3081 | BQ5: =ROUND(IF(U5<=99.9,(U5*1.014331),0),1) -> 0 | BR5: =AND(U5>99.9,U5<=299.9) -> FALSE | BS5: =IF(BR5=TRUE,ROUND((U5-100)*9.655,3),0) -> 0 | BT5: =IF(BR5=TRUE,ROUND(((7337-BS5)/3642.4)-1,6),0) -> 0 | BU5: =ROUND(BT5*U5,1) -> 0 | BV5: =AND(U5>299.9,U5<=1621.9) -> TRUE | BW5: =IF(BV5=TRUE,ROUND((U5-300)*1.2375,4),0) -> 159.0188 | BX5: =IF(BV5=TRUE,ROUND(((5406-BW5)/3642.4)-1,6),0) -> 0.440529 | BY5: =ROUND(BX5*U5,1) -> 188.8 | BZ5: =ROUND(IF(U5>=1622,(U5*0.03504),0),1) -> 0 | CA5: 325 | CB5: =AJ5/CA5 -> 0.558 | CC5: =IF(CB5<0.06,1,IF(CB5>=18.29,52,MATCH(CB5-0.001,'Weighting Factors'!$W$5:$W$156)+1)) -> 26 | CD5: =VLOOKUP(CC5, 'Weighting Factors'!$U$5:$X$56,4) -> 1070 | CE5: =('Weighting Factors'!$O$5/'Weighting Factors'!$O$14) -> 1.2216 | CF5: =AJ5*CD5 -> 194205 | CG5: =CF5*'Weighting Factors'!$Q$7 -> 194205 | CH5: =CG5*CE5 -> 237241 | CI5: =AK5/'Weighting Factors'!$O$5 -> 46.6 | CJ5: 0 | CK5: 0 | CL5: 0 | CM5: =SUM((AR5*'Weighting Factors'!$O$5)+'2024 Legal Max'!AX5)*CL5 -> 0 | CN5: =IF(CK5>CM5,CM5,CK5) -> 0 | CO5: =AE5/AD5 -> 0.533 | CP5: =IF(CO5>=50%,AE5*10.5%,0) -> 24.6 | CQ5: =IF(AND(CO5>35%,CO5<50%),AE5*(CO5-35%)*0.7,0) -> 0 | CR5: =AS5+AP5 -> 908.9 | CS5: ='Required Transfers'!L5 -> 191288 | CT5: ='Required Transfers'!O5 -> 1215 | CU5: ='Required Transfers'!H5 -> 701635 | CV5: =SUM(R5+T5+AT5+AU5+AV5/6+AW5/6) -> 433.5 | CW5: D0101
A6: 102 | B6: Gray | C6: Cimarron-Ensign | D6: 633 | F6: 0 | G6: =SUM(D6-E6+F6) -> 633 | H6: 626.5 | J6: 0 | K6: =SUM(H6-I6+J6) -> 626.5 | L6: 590.1 | N6: 0 | O6: =SUM(L6-M6+N6) -> 590.1 | P6: =IF(ISNA(VLOOKUP($CW6,'Audit Values'!$A:$BZ,2,FALSE)),'Preliminary SO66'!C5,VLOOKUP($CW6,'Audit Values'!$A:$BZ,76,FALSE)) -> 579.6 | Q6: =IF(ISNA(VLOOKUP($CW6,'Audit Values'!$A:$BZ,2,FALSE)),'Preliminary SO66'!F5,VLOOKUP($CW6,'Audit Values'!$A:$BZ,4,FALSE)) -> 0 | R6: =SUM(P6+Q6) -> 579.6 | S6: =IF('Military Provision'!I6="YES", MAX('2024 Legal Max'!O6,'2024 Legal Max'!K6,AVERAGE('2024 Legal Max'!G6,'2024 Legal Max'!K6,'2024 Legal Max'!O6)), MAX(O6, K6)) -> 626.5 | T6: =IF(ISNA(VLOOKUP($CW6,'Audit Values'!$A:$BX,2,FALSE)),'Preliminary SO66'!AL5,VLOOKUP($CW6,'Audit Values'!$A:$BX,59,FALSE)) -> 8 | U6: =S6+T6 -> 634.5 | V6: ='Low-High ENRL- 2023 HSubSB 113'!N9 -> 235.1 | W6: =IF(ISNA(VLOOKUP($CW6,'Audit Values'!$A:$BZ,2,FALSE)),'Preliminary SO66'!AM5,VLOOKUP($CW6,'Audit Values'!$A:$BZ,63,FALSE)) -> 542.9 | X6: =(W6/6)*'Weighting Factors'!$O$7 -> 35.7 | Y6: =IF(ISNA(VLOOKUP($CW6,'Audit Values'!$A:$BZ,2,FALSE)),'Preliminary SO66'!AN5,VLOOKUP($CW6,'Audit Values'!$A:$BZ,62,FALSE)) -> 121 | Z6: =Y6*'Weighting Factors'!$O$8 -> 22.4 | AA6: =MAX(X6,Z6) -> 35.7 | AB6: =IF(ISNA(VLOOKUP($CW6,'Audit Values'!$A:$BZ,2,FALSE)),'Preliminary SO66'!AO5,VLOOKUP($CW6,'Audit Values'!$A:$BZ,61,FALSE)) -> 163.4 | AC6: =AB6/6*'Weighting Factors'!$O$6 -> 13.6 | AD6: =IF(ISNA(VLOOKUP($CW6,'Audit Values'!$A:$BX,2,FALSE)),'Preliminary SO66'!AS5,VLOOKUP($CW6,'Audit Values'!$A:$BX,64,FALSE)) -> 601 | AE6: =IF(ISNA(VLOOKUP($CW6,'Audit Values'!$A:$BX,2,FALSE)),'Preliminary SO66'!AP5,VLOOKUP($CW6,'Audit Values'!$A:$BX,65,FALSE)) -> 194 | AF6: =IF(A6=207, AE6,(AE6))*'Weighting Factors'!$O$9 -> 93.9 | AG6: =MAX(CP6,CQ6) -> 0 | AH6: =IF(ISNA(VLOOKUP($CW6,'Audit Values'!$A:$BZ,2,FALSE)),'Preliminary SO66'!AG5,VLOOKUP($CW6,'Audit Values'!$A:$BZ,71,FALSE)) -> 0 | AI6: =MAX(AG6, AH6) -> 0 | AJ6: =IF(ISNA(VLOOKUP($CW6,'Audit Values'!$A:$BX,2,FALSE)),'Preliminary SO66'!AR5,VLOOKUP($CW6,'Audit Values'!$A:$BX,66,FALSE)) -> 73 | AK6: =CH6 -> 123956 | AL6: =AK6/'Weighting Factors'!$O$5 -> 24.4 | AM6: =CJ6/'Weighting Factors'!$O$5 -> 0 | AN6: =CN6/'Weighting Factors'!$O$5 -> 0 | AO6: 512639 | AP6: =AO6/'Weighting Factors'!$O$5 -> 100.8 | AQ6: =IF(ISNA(VLOOKUP($CW6,'Audit Values'!$A:$BX,2,FALSE)),'Preliminary SO66'!X5,VLOOKUP($CW6,'Audit Values'!$A:$BX,48,FALSE)) -> 0 | AR6: =SUM(U6+V6+AA6+AC6+AF6+AI6+AL6+AM6+AP6+AQ6) -> 1138 | AS6: =SUM(U6+V6+AA6+AC6+AF6+AI6+AL6+AM6+AN6+AQ6) -> 1037.2 | AT6: =IF(ISNA(VLOOKUP($CW6,'Audit Values'!$A$2:$BX$410,2,FALSE)),'Preliminary SO66'!AA5,VLOOKUP($CW6,'Audit Values'!$A$2:$BX$410,41,FALSE)) -> 0 | AU6: =IF(ISNA(VLOOKUP($CW6,'Audit Values'!$A$2:$BX$410,2,FALSE)),'Preliminary SO66'!AB5,VLOOKUP($CW6,'Audit Values'!$A$2:$BX$410,42,FALSE)) -> 0 | AV6: 0 | AW6: 0 | AX6: =SUM(AT6*'Weighting Factors'!$R$10)+('2024 Legal Max'!AU6*'Weighting Factors'!$R$11)+('2024 Legal Max'!AV6*'Weighting Factors'!$R$12)+('2024 Legal Max'!AW6*'Weighting Factors'!$R$12) -> 0 | AY6: =IF(ISNA(VLOOKUP($CW6,'Audit Values'!$A$2:$BX$429,2,FALSE)),"",IF(AND('Weighting Factors'!G6>0,VLOOKUP($CW6,'Audit Values'!$A$2:$BX$429,51,FALSE)<'Weighting Factors'!G6),'Weighting Factors'!G6,VLOOKUP($CW6,'Audit Values'!$A$2:$BX$429,51,FALSE))) -> 16 | AZ6: =IF(ISNA(VLOOKUP($CW6,'Audit Values'!$A:$BY,2,FALSE)),"",VLOOKUP($CW6,'Audit Values'!$A:$BY,52,FALSE)) -> A | BA6: =IF('Weighting Factors'!F6="","",IF('Weighting Factors'!H6="Pending","PX","R")) | BB6: =SUM((U6+V6+AA6+AC6+AF6+AI6+AL6+AM6+AQ6+AN6)*'Weighting Factors'!$O$5)+'2024 Legal Max'!AX6 -> 5277274 | BC6: =SUM((AR6+AN6)*'Weighting Factors'!$O$5)+AX6 -> 5790144 | BD6: =IF('Weighting Factors'!F6>0,'Weighting Factors'!F6,'Preliminary SO66'!AV5) -> 5880710 | BE6: =MIN(BC6,BD6) -> 5790144 | BF6: ='Weighting Factors'!E6 -> 0 | BG6: =Transportation!G6 -> 0 | BH6: =IF(ISNA(VLOOKUP($CW6,'Audit Values'!$A:$BW,2,FALSE)), 0, VLOOKUP($CW6,'Audit Values'!$A:$BW,75,FALSE)) -> 0 | BI6: =SUM(BF6:BH6) -> 0 | BJ6: =BE6+BI6 -> 5790144 | BK6: =SUM((U6+V6+AA6+AC6+AF6+AI6+AL6+AM6+AN6)*'Weighting Factors'!O$12)+(MAX(AO6,'Weighting Factors'!B6)) -> 5888261 | BL6: ='LOB%'!F4 -> 0.316 | BM6: =BK6*BL6 -> 1860690 | BN6: 1814200 | BO6: =MIN(BM6,BN6) -> 1814200 | BP6: =BO6/BK6 -> 0.3081 | BQ6: =ROUND(IF(U6<=99.9,(U6*1.014331),0),1) -> 0 | BR6: =AND(U6>99.9,U6<=299.9) -> FALSE | BS6: =IF(BR6=TRUE,ROUND((U6-100)*9.655,3),0) -> 0 | BT6: =IF(BR6=TRUE,ROUND(((7337-BS6)/3642.4)-1,6),0) -> 0 | BU6: =ROUND(BT6*U6,1) -> 0 | BV6: =AND(U6>299.9,U6<=1621.9) -> TRUE | BW6: =IF(BV6=TRUE,ROUND((U6-300)*1.2375,4),0) -> 413.9438 | BX6: =IF(BV6=TRUE,ROUND(((5406-BW6)/3642.4)-1,6),0) -> 0.37054 | BY6: =ROUND(BX6*U6,1) -> 235.1 | BZ6: =ROUND(IF(U6>=1622,(U6*0.03504),0),1) -> 0 | CA6: 538 | CB6: =AJ6/CA6 -> 0.136 | CC6: =IF(CB6<0.06,1,IF(CB6>=18.29,52,MATCH(CB6-0.001,'Weighting Factors'!$W$5:$W$156)+1)) -> 9 | CD6: =VLOOKUP(CC6, 'Weighting Factors'!$U$5:$X$56,4) -> 1390 | CE6: =('Weighting Factors'!$O$5/'Weighting Factors'!$O$14) -> 1.2216 | CF6: =AJ6*CD6 -> 101470 | CG6: =CF6*'Weighting Factors'!$Q$7 -> 101470 | CH6: =CG6*CE6 -> 123956 | CI6: =AK6/'Weighting Factors'!$O$5 -> 24.4 | CJ6: 0 | CK6: 0 | CL6: 0 | CM6: =SUM((AR6*'Weighting Factors'!$O$5)+'2024 Legal Max'!AX6)*CL6 -> 0 | CN6: =IF(CK6>CM6,CM6,CK6) -> 0 | CO6: =AE6/AD6 -> 0.3228 | CP6: =IF(CO6>=50%,AE6*10.5%,0) -> 0 | CQ6: =IF(AND(CO6>35%,CO6<50%),AE6*(CO6-35%)*0.7,0) -> 0 | CR6: =AS6+AP6 -> 1138 | CS6: ='Required Transfers'!L6 -> 150760 | CT6: ='Required Transfers'!O6 -> 57329 | CU6: ='Required Transfers'!H6 -> 477763 | CV6: =SUM(R6+T6+AT6+AU6+AV6/6+AW6/6) -> 587.6 | CW6: D0102
A7: 103 | B7: Cheyenne | C7: Cheylin | D7: 144 | F7: 0 | G7: =SUM(D7-E7+F7) -> 144 | H7: 144.8 | J7: 0 | K7: =SUM(H7-I7+J7) -> 144.8 | L7: 147 | N7: 0 | O7: =SUM(L7-M7+N7) -> 147 | P7: =IF(ISNA(VLOOKUP($CW7,'Audit Values'!$A:$BZ,2,FALSE)),'Preliminary SO66'!C6,VLOOKUP($CW7,'Audit Values'!$A:$BZ,76,FALSE)) -> 149.5 | Q7: =IF(ISNA(VLOOKUP($CW7,'Audit Values'!$A:$BZ,2,FALSE)),'Preliminary SO66'!F6,VLOOKUP($CW7,'Audit Values'!$A:$BZ,4,FALSE)) -> 0 | R7: =SUM(P7+Q7) -> 149.5 | S7: =IF('Military Provision'!I7="YES", MAX('2024 Legal Max'!O7,'2024 Legal Max'!K7,AVERAGE('2024 Legal Max'!G7,'2024 Legal Max'!K7,'2024 Legal Max'!O7)), MAX(O7, K7)) -> 147 | T7: =IF(ISNA(VLOOKUP($CW7,'Audit Values'!$A:$BX,2,FALSE)),'Preliminary SO66'!AL6,VLOOKUP($CW7,'Audit Values'!$A:$BX,59,FALSE)) -> 0 | U7: =S7+T7 -> 147 | V7: ='Low-High ENRL- 2023 HSubSB 113'!N10 -> 130.8 | W7: =IF(ISNA(VLOOKUP($CW7,'Audit Values'!$A:$BZ,2,FALSE)),'Preliminary SO66'!AM6,VLOOKUP($CW7,'Audit Values'!$A:$BZ,63,FALSE)) -> 80.5 | X7: =(W7/6)*'Weighting Factors'!$O$7 -> 5.3 | Y7: =IF(ISNA(VLOOKUP($CW7,'Audit Values'!$A:$BZ,2,FALSE)),'Preliminary SO66'!AN6,VLOOKUP($CW7,'Audit Values'!$A:$BZ,62,FALSE)) -> 20 | Z7: =Y7*'Weighting Factors'!$O$8 -> 3.7 | AA7: =MAX(X7,Z7) -> 5.3 | AB7: =IF(ISNA(VLOOKUP($CW7,'Audit Values'!$A:$BZ,2,FALSE)),'Preliminary SO66'!AO6,VLOOKUP($CW7,'Audit Values'!$A:$BZ,61,FALSE)) -> 73.8 | AC7: =AB7/6*'Weighting Factors'!$O$6 -> 6.2 | AD7: =IF(ISNA(VLOOKUP($CW7,'Audit Values'!$A:$BX,2,FALSE)),'Preliminary SO66'!AS6,VLOOKUP($CW7,'Audit Values'!$A:$BX,64,FALSE)) -> 151 | AE7: =IF(ISNA(VLOOKUP($CW7,'Audit Values'!$A:$BX,2,FALSE)),'Preliminary SO66'!AP6,VLOOKUP($CW7,'Audit Values'!$A:$BX,65,FALSE)) -> 65 | AF7: =IF(A7=207, AE7,(AE7))*'Weighting Factors'!$O$9 -> 31.5 | AG7: =MAX(CP7,CQ7) -> 3.7 | AH7: =IF(ISNA(VLOOKUP($CW7,'Audit Values'!$A:$BZ,2,FALSE)),'Preliminary SO66'!AG6,VLOOKUP($CW7,'Audit Values'!$A:$BZ,71,FALSE)) -> 4.6 | AI7: =MAX(AG7, AH7) -> 4.6 | AJ7: =IF(ISNA(VLOOKUP($CW7,'Audit Values'!$A:$BX,2,FALSE)),'Preliminary SO66'!AR6,VLOOKUP($CW7,'Audit Values'!$A:$BX,66,FALSE)) -> 44 | AK7: =CH7 -> 84926 | AL7: =AK7/'Weighting Factors'!$O$5 -> 16.7 | AM7: =CJ7/'Weighting Factors'!$O$5 -> 0 | AN7: =CN7/'Weighting Factors'!$O$5 -> 0 | AO7: 104255 | AP7: =AO7/'Weighting Factors'!$O$5 -> 20.5 | AQ7: =IF(ISNA(VLOOKUP($CW7,'Audit Values'!$A:$BX,2,FALSE)),'Preliminary SO66'!X6,VLOOKUP($CW7,'Audit Values'!$A:$BX,48,FALSE)) -> 0 | AR7: =SUM(U7+V7+AA7+AC7+AF7+AI7+AL7+AM7+AP7+AQ7) -> 362.6 | AS7: =SUM(U7+V7+AA7+AC7+AF7+AI7+AL7+AM7+AN7+AQ7) -> 342.1 | AT7: =IF(ISNA(VLOOKUP($CW7,'Audit Values'!$A$2:$BX$410,2,FALSE)),'Preliminary SO66'!AA6,VLOOKUP($CW7,'Audit Values'!$A$2:$BX$410,41,FALSE)) -> 0 | AU7: =IF(ISNA(VLOOKUP($CW7,'Audit Values'!$A$2:$BX$410,2,FALSE)),'Preliminary SO66'!AB6,VLOOKUP($CW7,'Audit Values'!$A$2:$BX$410,42,FALSE)) -> 0 | AV7: 0 | AW7: 0 | AX7: =SUM(AT7*'Weighting Factors'!$R$10)+('2024 Legal Max'!AU7*'Weighting Factors'!$R$11)+('2024 Legal Max'!AV7*'Weighting Factors'!$R$12)+('2024 Legal Max'!AW7*'Weighting Factors'!$R$12) -> 0 | AY7: =IF(ISNA(VLOOKUP($CW7,'Audit Values'!$A$2:$BX$429,2,FALSE)),"",IF(AND('Weighting Factors'!G7>0,VLOOKUP($CW7,'Audit Values'!$A$2:$BX$429,51,FALSE)<'Weighting Factors'!G7),'Weighting Factors'!G7,VLOOKUP($CW7,'Audit Values'!$A$2:$BX$429,51,FALSE))) -> 16 | AZ7: =IF(ISNA(VLOOKUP($CW7,'Audit Values'!$A:$BY,2,FALSE)),"",VLOOKUP($CW7,'Audit Values'!$A:$BY,52,FALSE)) -> A | BA7: =IF('Weighting Factors'!F7="","",IF('Weighting Factors'!H7="Pending","PX","R")) | BB7: =SUM((U7+V7+AA7+AC7+AF7+AI7+AL7+AM7+AQ7+AN7)*'Weighting Factors'!$O$5)+'2024 Legal Max'!AX7 -> 1740605 | BC7: =SUM((AR7+AN7)*'Weighting Factors'!$O$5)+AX7 -> 1844909 | BD7: =IF('Weighting Factors'!F7>0,'Weighting Factors'!F7,'Preliminary SO66'!AV6) -> 1909526 | BE7: =MIN(BC7,BD7) -> 1844909 | BF7: ='Weighting Factors'!E7 -> 0 | BG7: =Transportation!G7 -> 0 | BH7: =IF(ISNA(VLOOKUP($CW7,'Audit Values'!$A:$BW,2,FALSE)), 0, VLOOKUP($CW7,'Audit Values'!$A:$BW,75,FALSE)) -> 0 | BI7: =SUM(BF7:BH7) -> 0 | BJ7: =BE7+BI7 -> 1844909 | BK7: =SUM((U7+V7+AA7+AC7+AF7+AI7+AL7+AM7+AN7)*'Weighting Factors'!O$12)+(MAX(AO7,'Weighting Factors'!B7)) -> 1954807 | BL7: ='LOB%'!F5 -> 0.316 | BM7: =BK7*BL7 -> 617719 | BN7: 617575 | BO7: =MIN(BM7,BN7) -> 617575 | BP7: =BO7/BK7 -> 0.3159 | BQ7: =ROUND(IF(U7<=99.9,(U7*1.014331),0),1) -> 0 | BR7: =AND(U7>99.9,U7<=299.9) -> TRUE | BS7: =IF(BR7=TRUE,ROUND((U7-100)*9.655,3),0) -> 453.785 | BT7: =IF(BR7=TRUE,ROUND(((7337-BS7)/3642.4)-1,6),0) -> 0.889747 | BU7: =ROUND(BT7*U7,1) -> 130.8 | BV7: =AND(U7>299.9,U7<=1621.9) -> FALSE | BW7: =IF(BV7=TRUE,ROUND((U7-300)*1.2375,4),0) -> 0 | BX7: =IF(BV7=TRUE,ROUND(((5406-BW7)/3642.4)-1,6),0) -> 0 | BY7: =ROUND(BX7*U7,1) -> 0 | BZ7: =ROUND(IF(U7>=1622,(U7*0.03504),0),1) -> 0 | CA7: 688 | CB7: =AJ7/CA7 -> 0.064 | CC7: =IF(CB7<0.06,1,IF(CB7>=18.29,52,MATCH(CB7-0.001,'Weighting Factors'!$W$5:$W$156)+1)) -> 2 | CD7: =VLOOKUP(CC7, 'Weighting Factors'!$U$5:$X$56,4) -> 1580 | CE7: =('Weighting Factors'!$O$5/'Weighting Factors'!$O$14) -> 1.2216 | CF7: =AJ7*CD7 -> 69520 | CG7: =CF7*'Weighting Factors'!$Q$7 -> 69520 | CH7: =CG7*CE7 -> 84926 | CI7: =AK7/'Weighting Factors'!$O$5 -> 16.7 | CJ7: 0 | CK7: 0 | CL7: 0 | CM7: =SUM((AR7*'Weighting Factors'!$O$5)+'2024 Legal Max'!AX7)*CL7 -> 0 | CN7: =IF(CK7>CM7,CM7,CK7) -> 0 | CO7: =AE7/AD7 -> 0.4305 | CP7: =IF(CO7>=50%,AE7*10.5%,0) -> 0 | CQ7: =IF(AND(CO7>35%,CO7<50%),AE7*(CO7-35%)*0.7,0) -> 3.7 | CR7: =AS7+AP7 -> 362.6 | CS7: ='Required Transfers'!L7 -> 53667 | CT7: ='Required Transfers'!O7 -> 9017 | CU7: ='Required Transfers'!H7 -> 183677 | CV7: =SUM(R7+T7+AT7+AU7+AV7/6+AW7/6) -> 149.5 | CW7: D0103
A8: 105 | B8: Rawlins | C8: Rawlins County | D8: 341 | F8: 0 | G8: =SUM(D8-E8+F8) -> 341 | H8: 360.9 | J8: 0 | K8: =SUM(H8-I8+J8) -> 360.9 | L8: 374.5 | N8: 0 | O8: =SUM(L8-M8+N8) -> 374.5 | P8: =IF(ISNA(VLOOKUP($CW8,'Audit Values'!$A:$BZ,2,FALSE)),'Preliminary SO66'!C7,VLOOKUP($CW8,'Audit Values'!$A:$BZ,76,FALSE)) -> 359.5 | Q8: =IF(ISNA(VLOOKUP($CW8,'Audit Values'!$A:$BZ,2,FALSE)),'Preliminary SO66'!F7,VLOOKUP($CW8,'Audit Values'!$A:$BZ,4,FALSE)) -> 0 | R8: =SUM(P8+Q8) -> 359.5 | S8: =IF('Military Provision'!I8="YES", MAX('2024 Legal Max'!O8,'2024 Legal Max'!K8,AVERAGE('2024 Legal Max'!G8,'2024 Legal Max'!K8,'2024 Legal Max'!O8)), MAX(O8, K8)) -> 374.5 | T8: =IF(ISNA(VLOOKUP($CW8,'Audit Values'!$A:$BX,2,FALSE)),'Preliminary SO66'!AL7,VLOOKUP($CW8,'Audit Values'!$A:$BX,59,FALSE)) -> 0 | U8: =S8+T8 -> 374.5 | V8: ='Low-High ENRL- 2023 HSubSB 113'!N11 -> 171.8 | W8: =IF(ISNA(VLOOKUP($CW8,'Audit Values'!$A:$BZ,2,FALSE)),'Preliminary SO66'!AM7,VLOOKUP($CW8,'Audit Values'!$A:$BZ,63,FALSE)) -> 38.4 | X8: =(W8/6)*'Weighting Factors'!$O$7 -> 2.5 | Y8: =IF(ISNA(VLOOKUP($CW8,'Audit Values'!$A:$BZ,2,FALSE)),'Preliminary SO66'!AN7,VLOOKUP($CW8,'Audit Values'!$A:$BZ,62,FALSE)) -> 24 | Z8: =Y8*'Weighting Factors'!$O$8 -> 4.4 | AA8: =MAX(X8,Z8) -> 4.4 | AB8: =IF(ISNA(VLOOKUP($CW8,'Audit Values'!$A:$BZ,2,FALSE)),'Preliminary SO66'!AO7,VLOOKUP($CW8,'Audit Values'!$A:$BZ,61,FALSE)) -> 114.8 | AC8: =AB8/6*'Weighting Factors'!$O$6 -> 9.6 | AD8: =IF(ISNA(VLOOKUP($CW8,'Audit Values'!$A:$BX,2,FALSE)),'Preliminary SO66'!AS7,VLOOKUP($CW8,'Audit Values'!$A:$BX,64,FALSE)) -> 361 | AE8: =IF(ISNA(VLOOKUP($CW8,'Audit Values'!$A:$BX,2,FALSE)),'Preliminary SO66'!AP7,VLOOKUP($CW8,'Audit Values'!$A:$BX,65,FALSE)) -> 118 | AF8: =IF(A8=207, AE8,(AE8))*'Weighting Factors'!$O$9 -> 57.1 | AG8: =MAX(CP8,CQ8) -> 0 | AH8: =IF(ISNA(VLOOKUP($CW8,'Audit Values'!$A:$BZ,2,FALSE)),'Preliminary SO66'!AG7,VLOOKUP($CW8,'Audit Values'!$A:$BZ,71,FALSE)) -> 1.1 | AI8: =MAX(AG8, AH8) -> 1.1 | AJ8: =IF(ISNA(VLOOKUP($CW8,'Audit Values'!$A:$BX,2,FALSE)),'Preliminary SO66'!AR7,VLOOKUP($CW8,'Audit Values'!$A:$BX,66,FALSE)) -> 133.5 | AK8: =CH8 -> 212009 | AL8: =AK8/'Weighting Factors'!$O$5 -> 41.7 | AM8: =CJ8/'Weighting Factors'!$O$5 -> 0 | AN8: =CN8/'Weighting Factors'!$O$5 -> 0 | AO8: 280739 | AP8: =AO8/'Weighting Factors'!$O$5 -> 55.2 | AQ8: =IF(ISNA(VLOOKUP($CW8,'Audit Values'!$A:$BX,2,FALSE)),'Preliminary SO66'!X7,VLOOKUP($CW8,'Audit Values'!$A:$BX,48,FALSE)) -> 1 | AR8: =SUM(U8+V8+AA8+AC8+AF8+AI8+AL8+AM8+AP8+AQ8) -> 716.4 | AS8: =SUM(U8+V8+AA8+AC8+AF8+AI8+AL8+AM8+AN8+AQ8) -> 661.2 | AT8: =IF(ISNA(VLOOKUP($CW8,'Audit Values'!$A$2:$BX$410,2,FALSE)),'Preliminary SO66'!AA7,VLOOKUP($CW8,'Audit Values'!$A$2:$BX$410,41,FALSE)) -> 0 | AU8: =IF(ISNA(VLOOKUP($CW8,'Audit Values'!$A$2:$BX$410,2,FALSE)),'Preliminary SO66'!AB7,VLOOKUP($CW8,'Audit Values'!$A$2:$BX$410,42,FALSE)) -> 0 | AV8: 0 | AW8: 0 | AX8: =SUM(AT8*'Weighting Factors'!$R$10)+('2024 Legal Max'!AU8*'Weighting Factors'!$R$11)+('2024 Legal Max'!AV8*'Weighting Factors'!$R$12)+('2024 Legal Max'!AW8*'Weighting Factors'!$R$12) -> 0 | AY8: =IF(ISNA(VLOOKUP($CW8,'Audit Values'!$A$2:$BX$429,2,FALSE)),"",IF(AND('Weighting Factors'!G8>0,VLOOKUP($CW8,'Audit Values'!$A$2:$BX$429,51,FALSE)<'Weighting Factors'!G8),'Weighting Factors'!G8,VLOOKUP($CW8,'Audit Values'!$A$2:$BX$429,51,FALSE))) -> 16 | AZ8: =IF(ISNA(VLOOKUP($CW8,'Audit Values'!$A:$BY,2,FALSE)),"",VLOOKUP($CW8,'Audit Values'!$A:$BY,52,FALSE)) -> A | BA8: =IF('Weighting Factors'!F8="","",IF('Weighting Factors'!H8="Pending","PX","R")) | BB8: =SUM((U8+V8+AA8+AC8+AF8+AI8+AL8+AM8+AQ8+AN8)*'Weighting Factors'!$O$5)+'2024 Legal Max'!AX8 -> 3364186 | BC8: =SUM((AR8+AN8)*'Weighting Factors'!$O$5)+AX8 -> 3645043 | BD8: =IF('Weighting Factors'!F8>0,'Weighting Factors'!F8,'Preliminary SO66'!AV7) -> 3803280 | BE8: =MIN(BC8,BD8) -> 3645043 | BF8: ='Weighting Factors'!E8 -> 0 | BG8: =Transportation!G8 -> 0 | BH8: =IF(ISNA(VLOOKUP($CW8,'Audit Values'!$A:$BW,2,FALSE)), 0, VLOOKUP($CW8,'Audit Values'!$A:$BW,75,FALSE)) -> 0 | BI8: =SUM(BF8:BH8) -> 0 | BJ8: =BE8+BI8 -> 3645043 | BK8: =SUM((U8+V8+AA8+AC8+AF8+AI8+AL8+AM8+AN8)*'Weighting Factors'!O$12)+(MAX(AO8,'Weighting Factors'!B8)) -> 3738915 | BL8: ='LOB%'!F6 -> 0.33 | BM8: =BK8*BL8 -> 1233842 | BN8: 1273842 | BO8: =MIN(BM8,BN8) -> 1233842 | BP8: =BO8/BK8 -> 0.33 | BQ8: =ROUND(IF(U8<=99.9,(U8*1.014331),0),1) -> 0 | BR8: =AND(U8>99.9,U8<=299.9) -> FALSE | BS8: =IF(BR8=TRUE,ROUND((U8-100)*9.655,3),0) -> 0 | BT8: =IF(BR8=TRUE,ROUND(((7337-BS8)/3642.4)-1,6),0) -> 0 | BU8: =ROUND(BT8*U8,1) -> 0 | BV8: =AND(U8>299.9,U8<=1621.9) -> TRUE | BW8: =IF(BV8=TRUE,ROUND((U8-300)*1.2375,4),0) -> 92.1938 | BX8: =IF(BV8=TRUE,ROUND(((5406-BW8)/3642.4)-1,6),0) -> 0.458875 | BY8: =ROUND(BX8*U8,1) -> 171.8 | BZ8: =ROUND(IF(U8>=1622,(U8*0.03504),0),1) -> 0 | CA8: 740.1 | CB8: =AJ8/CA8 -> 0.18 | CC8: =IF(CB8<0.06,1,IF(CB8>=18.29,52,MATCH(CB8-0.001,'Weighting Factors'!$W$5:$W$156)+1)) -> 14 | CD8: =VLOOKUP(CC8, 'Weighting Factors'!$U$5:$X$56,4) -> 1300 | CE8: =('Weighting Factors'!$O$5/'Weighting Factors'!$O$14) -> 1.2216 | CF8: =AJ8*CD8 -> 173550 | CG8: =CF8*'Weighting Factors'!$Q$7 -> 173550 | CH8: =CG8*CE8 -> 212009 | CI8: =AK8/'Weighting Factors'!$O$5 -> 41.7 | CJ8: 0 | CK8: 0 | CL8: 0 | CM8: =SUM((AR8*'Weighting Factors'!$O$5)+'2024 Legal Max'!AX8)*CL8 -> 0 | CN8: =IF(CK8>CM8,CM8,CK8) -> 0 | CO8: =AE8/AD8 -> 0.3269 | CP8: =IF(CO8>=50%,AE8*10.5%,0) -> 0 | CQ8: =IF(AND(CO8>35%,CO8<50%),AE8*(CO8-35%)*0.7,0) -> 0 | CR8: =AS8+AP8 -> 716.4 | CS8: ='Required Transfers'!L8 -> 98461 | CT8: ='Required Transfers'!O8 -> 7650 | CU8: ='Required Transfers'!H8 -> 296122 | CV8: =SUM(R8+T8+AT8+AU8+AV8/6+AW8/6) -> 359.5 | CW8: D0105
A9: 106 | B9: Ness | C9: Western Plains | D9: 104.5 | F9: 0 | G9: =SUM(D9-E9+F9) -> 104.5 | H9: 107.5 | J9: 0 | K9: =SUM(H9-I9+J9) -> 107.5 | L9: 106.5 | N9: 0 | O9: =SUM(L9-M9+N9) -> 106.5 | P9: =IF(ISNA(VLOOKUP($CW9,'Audit Values'!$A:$BZ,2,FALSE)),'Preliminary SO66'!C8,VLOOKUP($CW9,'Audit Values'!$A:$BZ,76,FALSE)) -> 110 | Q9: =IF(ISNA(VLOOKUP($CW9,'Audit Values'!$A:$BZ,2,FALSE)),'Preliminary SO66'!F8,VLOOKUP($CW9,'Audit Values'!$A:$BZ,4,FALSE)) -> 0 | R9: =SUM(P9+Q9) -> 110 | S9: =IF('Military Provision'!I9="YES", MAX('2024 Legal Max'!O9,'2024 Legal Max'!K9,AVERAGE('2024 Legal Max'!G9,'2024 Legal Max'!K9,'2024 Legal Max'!O9)), MAX(O9, K9)) -> 107.5 | T9: =IF(ISNA(VLOOKUP($CW9,'Audit Values'!$A:$BX,2,FALSE)),'Preliminary SO66'!AL8,VLOOKUP($CW9,'Audit Values'!$A:$BX,59,FALSE)) -> 6.5 | U9: =S9+T9 -> 114 | V9: ='Low-High ENRL- 2023 HSubSB 113'!N12 -> 111.4 | W9: =IF(ISNA(VLOOKUP($CW9,'Audit Values'!$A:$BZ,2,FALSE)),'Preliminary SO66'!AM8,VLOOKUP($CW9,'Audit Values'!$A:$BZ,63,FALSE)) -> 75.5 | X9: =(W9/6)*'Weighting Factors'!$O$7 -> 5 | Y9: =IF(ISNA(VLOOKUP($CW9,'Audit Values'!$A:$BZ,2,FALSE)),'Preliminary SO66'!AN8,VLOOKUP($CW9,'Audit Values'!$A:$BZ,62,FALSE)) -> 18 | Z9: =Y9*'Weighting Factors'!$O$8 -> 3.3 | AA9: =MAX(X9,Z9) -> 5 | AB9: =IF(ISNA(VLOOKUP($CW9,'Audit Values'!$A:$BZ,2,FALSE)),'Preliminary SO66'!AO8,VLOOKUP($CW9,'Audit Values'!$A:$BZ,61,FALSE)) -> 48.8 | AC9: =AB9/6*'Weighting Factors'!$O$6 -> 4.1 | AD9: =IF(ISNA(VLOOKUP($CW9,'Audit Values'!$A:$BX,2,FALSE)),'Preliminary SO66'!AS8,VLOOKUP($CW9,'Audit Values'!$A:$BX,64,FALSE)) -> 123 | AE9: =IF(ISNA(VLOOKUP($CW9,'Audit Values'!$A:$BX,2,FALSE)),'Preliminary SO66'!AP8,VLOOKUP($CW9,'Audit Values'!$A:$BX,65,FALSE)) -> 79 | AF9: =IF(A9=207, AE9,(AE9))*'Weighting Factors'!$O$9 -> 38.2 | AG9: =MAX(CP9,CQ9) -> 8.3 | AH9: =IF(ISNA(VLOOKUP($CW9,'Audit Values'!$A:$BZ,2,FALSE)),'Preliminary SO66'!AG8,VLOOKUP($CW9,'Audit Values'!$A:$BZ,71,FALSE)) -> 8.3 | AI9: =MAX(AG9, AH9) -> 8.3 | AJ9: =IF(ISNA(VLOOKUP($CW9,'Audit Values'!$A:$BX,2,FALSE)),'Preliminary SO66'!AR8,VLOOKUP($CW9,'Audit Values'!$A:$BX,66,FALSE)) -> 25 | AK9: =CH9 -> 49475 | AL9: =AK9/'Weighting Factors'!$O$5 -> 9.7 | AM9: =CJ9/'Weighting Factors'!$O$5 -> 0 | AN9: =CN9/'Weighting Factors'!$O$5 -> 0 | AO9: 93572 | AP9: =AO9/'Weighting Factors'!$O$5 -> 18.4 | AQ9: =IF(ISNA(VLOOKUP($CW9,'Audit Values'!$A:$BX,2,FALSE)),'Preliminary SO66'!X8,VLOOKUP($CW9,'Audit Values'!$A:$BX,48,FALSE)) -> 0 | AR9: =SUM(U9+V9+AA9+AC9+AF9+AI9+AL9+AM9+AP9+AQ9) -> 309.1 | AS9: =SUM(U9+V9+AA9+AC9+AF9+AI9+AL9+AM9+AN9+AQ9) -> 290.7 | AT9: =IF(ISNA(VLOOKUP($CW9,'Audit Values'!$A$2:$BX$410,2,FALSE)),'Preliminary SO66'!AA8,VLOOKUP($CW9,'Audit Values'!$A$2:$BX$410,41,FALSE)) -> 0 | AU9: =IF(ISNA(VLOOKUP($CW9,'Audit Values'!$A$2:$BX$410,2,FALSE)),'Preliminary SO66'!AB8,VLOOKUP($CW9,'Audit Values'!$A$2:$BX$410,42,FALSE)) -> 0 | AV9: 0 | AW9: 0 | AX9: =SUM(AT9*'Weighting Factors'!$R$10)+('2024 Legal Max'!AU9*'Weighting Factors'!$R$11)+('2024 Legal Max'!AV9*'Weighting Factors'!$R$12)+('2024 Legal Max'!AW9*'Weighting Factors'!$R$12) -> 0 | AY9: =IF(ISNA(VLOOKUP($CW9,'Audit Values'!$A$2:$BX$429,2,FALSE)),"",IF(AND('Weighting Factors'!G9>0,VLOOKUP($CW9,'Audit Values'!$A$2:$BX$429,51,FALSE)<'Weighting Factors'!G9),'Weighting Factors'!G9,VLOOKUP($CW9,'Audit Values'!$A$2:$BX$429,51,FALSE))) -> 6 | AZ9: =IF(ISNA(VLOOKUP($CW9,'Audit Values'!$A:$BY,2,FALSE)),"",VLOOKUP($CW9,'Audit Values'!$A:$BY,52,FALSE)) -> A | BA9: =IF('Weighting Factors'!F9="","",IF('Weighting Factors'!H9="Pending","PX","R")) | BB9: =SUM((U9+V9+AA9+AC9+AF9+AI9+AL9+AM9+AQ9+AN9)*'Weighting Factors'!$O$5)+'2024 Legal Max'!AX9 -> 1479082 | BC9: =SUM((AR9+AN9)*'Weighting Factors'!$O$5)+AX9 -> 1572701 | BD9: =IF('Weighting Factors'!F9>0,'Weighting Factors'!F9,'Preliminary SO66'!AV8) -> 1608826 | BE9: =MIN(BC9,BD9) -> 1572701 | BF9: ='Weighting Factors'!E9 -> 0 | BG9: =Transportation!G9 -> 0 | BH9: =IF(ISNA(VLOOKUP($CW9,'Audit Values'!$A:$BW,2,FALSE)), 0, VLOOKUP($CW9,'Audit Values'!$A:$BW,75,FALSE)) -> 0 | BI9: =SUM(BF9:BH9) -> 0 | BJ9: =BE9+BI9 -> 1572701 | BK9: =SUM((U9+V9+AA9+AC9+AF9+AI9+AL9+AM9+AN9)*'Weighting Factors'!O$12)+(MAX(AO9,'Weighting Factors'!B9)) -> 1650773 | BL9: ='LOB%'!F7 -> 0.33 | BM9: =BK9*BL9 -> 544755 | BN9: 546117 | BO9: =MIN(BM9,BN9) -> 544755 | BP9: =BO9/BK9 -> 0.33 | BQ9: =ROUND(IF(U9<=99.9,(U9*1.014331),0),1) -> 0 | BR9: =AND(U9>99.9,U9<=299.9) -> TRUE | BS9: =IF(BR9=TRUE,ROUND((U9-100)*9.655,3),0) -> 135.17 | BT9: =IF(BR9=TRUE,ROUND(((7337-BS9)/3642.4)-1,6),0) -> 0.977221 | BU9: =ROUND(BT9*U9,1) -> 111.4 | BV9: =AND(U9>299.9,U9<=1621.9) -> FALSE | BW9: =IF(BV9=TRUE,ROUND((U9-300)*1.2375,4),0) -> 0 | BX9: =IF(BV9=TRUE,ROUND(((5406-BW9)/3642.4)-1,6),0) -> 0 | BY9: =ROUND(BX9*U9,1) -> 0 | BZ9: =ROUND(IF(U9>=1622,(U9*0.03504),0),1) -> 0 | CA9: 601.2 | CB9: =AJ9/CA9 -> 0.042 | CC9: =IF(CB9<0.06,1,IF(CB9>=18.29,52,MATCH(CB9-0.001,'Weighting Factors'!$W$5:$W$156)+1)) -> 1 | CD9: =VLOOKUP(CC9, 'Weighting Factors'!$U$5:$X$56,4) -> 1620 | CE9: =('Weighting Factors'!$O$5/'Weighting Factors'!$O$14) -> 1.2216 | CF9: =AJ9*CD9 -> 40500 | CG9: =CF9*'Weighting Factors'!$Q$7 -> 40500 | CH9: =CG9*CE9 -> 49475 | CI9: =AK9/'Weighting Factors'!$O$5 -> 9.7 | CJ9: 0 | CK9: 0 | CL9: 0 | CM9: =SUM((AR9*'Weighting Factors'!$O$5)+'2024 Legal Max'!AX9)*CL9 -> 0 | CN9: =IF(CK9>CM9,CM9,CK9) -> 0 | CO9: =AE9/AD9 -> 0.6423 | CP9: =IF(CO9>=50%,AE9*10.5%,0) -> 8.3 | CQ9: =IF(AND(CO9>35%,CO9<50%),AE9*(CO9-35%)*0.7,0) -> 0 | CR9: =AS9+AP9 -> 309.1 | CS9: ='Required Transfers'!L9 -> 68748 | CT9: ='Required Transfers'!O9 -> 8988 | CU9: ='Required Transfers'!H9 -> 236592 | CV9: =SUM(R9+T9+AT9+AU9+AV9/6+AW9/6) -> 116.5 | CW9: D0106
A10: 107 | B10: Jewell | C10: Rock Hills | D10: 328.2 | F10: 0 | G10: =SUM(D10-E10+F10) -> 328.2 | H10: 374 | J10: 0 | K10: =SUM(H10-I10+J10) -> 374 | L10: 355.5 | N10: 0 | O10: =SUM(L10-M10+N10) -> 355.5 | P10: =IF(ISNA(VLOOKUP($CW10,'Audit Values'!$A:$BZ,2,FALSE)),'Preliminary SO66'!C9,VLOOKUP($CW10,'Audit Values'!$A:$BZ,76,FALSE)) -> 348 | Q10: =IF(ISNA(VLOOKUP($CW10,'Audit Values'!$A:$BZ,2,FALSE)),'Preliminary SO66'!F9,VLOOKUP($CW10,'Audit Values'!$A:$BZ,4,FALSE)) -> 0 | R10: =SUM(P10+Q10) -> 348 | S10: =IF('Military Provision'!I10="YES", MAX('2024 Legal Max'!O10,'2024 Legal Max'!K10,AVERAGE('2024 Legal Max'!G10,'2024 Legal Max'!K10,'2024 Legal Max'!O10)), MAX(O10, K10)) -> 374 | T10: =IF(ISNA(VLOOKUP($CW10,'Audit Values'!$A:$BX,2,FALSE)),'Preliminary SO66'!AL9,VLOOKUP($CW10,'Audit Values'!$A:$BX,59,FALSE)) -> 9 | U10: =S10+T10 -> 383 | V10: ='Low-High ENRL- 2023 HSubSB 113'!N13 -> 174.6 | W10: =IF(ISNA(VLOOKUP($CW10,'Audit Values'!$A:$BZ,2,FALSE)),'Preliminary SO66'!AM9,VLOOKUP($CW10,'Audit Values'!$A:$BZ,63,FALSE)) -> 0 | X10: =(W10/6)*'Weighting Factors'!$O$7 -> 0 | Y10: =IF(ISNA(VLOOKUP($CW10,'Audit Values'!$A:$BZ,2,FALSE)),'Preliminary SO66'!AN9,VLOOKUP($CW10,'Audit Values'!$A:$BZ,62,FALSE)) -> 2 | Z10: =Y10*'Weighting Factors'!$O$8 -> 0.4 | AA10: =MAX(X10,Z10) -> 0.4 | AB10: =IF(ISNA(VLOOKUP($CW10,'Audit Values'!$A:$BZ,2,FALSE)),'Preliminary SO66'!AO9,VLOOKUP($CW10,'Audit Values'!$A:$BZ,61,FALSE)) -> 136.5 | AC10: =AB10/6*'Weighting Factors'!$O$6 -> 11.4 | AD10: =IF(ISNA(VLOOKUP($CW10,'Audit Values'!$A:$BX,2,FALSE)),'Preliminary SO66'!AS9,VLOOKUP($CW10,'Audit Values'!$A:$BX,64,FALSE)) -> 369 | AE10: =IF(ISNA(VLOOKUP($CW10,'Audit Values'!$A:$BX,2,FALSE)),'Preliminary SO66'!AP9,VLOOKUP($CW10,'Audit Values'!$A:$BX,65,FALSE)) -> 163 | AF10: =IF(A10=207, AE10,(AE10))*'Weighting Factors'!$O$9 -> 78.9 | AG10: =MAX(CP10,CQ10) -> 10.5 | AH10: =IF(ISNA(VLOOKUP($CW10,'Audit Values'!$A:$BZ,2,FALSE)),'Preliminary SO66'!AG9,VLOOKUP($CW10,'Audit Values'!$A:$BZ,71,FALSE)) -> 11 | AI10: =MAX(AG10, AH10) -> 11 | AJ10: =IF(ISNA(VLOOKUP($CW10,'Audit Values'!$A:$BX,2,FALSE)),'Preliminary SO66'!AR9,VLOOKUP($CW10,'Audit Values'!$A:$BX,66,FALSE)) -> 162 | AK10: =CH10 -> 251332 | AL10: =AK10/'Weighting Factors'!$O$5 -> 49.4 | AM10: =CJ10/'Weighting Factors'!$O$5 -> 0 | AN10: =CN10/'Weighting Factors'!$O$5 -> 0 | AO10: 376463 | AP10: =AO10/'Weighting Factors'!$O$5 -> 74 | AQ10: =IF(ISNA(VLOOKUP($CW10,'Audit Values'!$A:$BX,2,FALSE)),'Preliminary SO66'!X9,VLOOKUP($CW10,'Audit Values'!$A:$BX,48,FALSE)) -> 1 | AR10: =SUM(U10+V10+AA10+AC10+AF10+AI10+AL10+AM10+AP10+AQ10) -> 783.7 | AS10: =SUM(U10+V10+AA10+AC10+AF10+AI10+AL10+AM10+AN10+AQ10) -> 709.7 | AT10: =IF(ISNA(VLOOKUP($CW10,'Audit Values'!$A$2:$BX$410,2,FALSE)),'Preliminary SO66'!AA9,VLOOKUP($CW10,'Audit Values'!$A$2:$BX$410,41,FALSE)) -> 0 | AU10: =IF(ISNA(VLOOKUP($CW10,'Audit Values'!$A$2:$BX$410,2,FALSE)),'Preliminary SO66'!AB9,VLOOKUP($CW10,'Audit Values'!$A$2:$BX$410,42,FALSE)) -> 0 | AV10: 0 | AW10: 0 | AX10: =SUM(AT10*'Weighting Factors'!$R$10)+('2024 Legal Max'!AU10*'Weighting Factors'!$R$11)+('2024 Legal Max'!AV10*'Weighting Factors'!$R$12)+('2024 Legal Max'!AW10*'Weighting Factors'!$R$12) -> 0 | AY10: =IF(ISNA(VLOOKUP($CW10,'Audit Values'!$A$2:$BX$429,2,FALSE)),"",IF(AND('Weighting Factors'!G10>0,VLOOKUP($CW10,'Audit Values'!$A$2:$BX$429,51,FALSE)<'Weighting Factors'!G10),'Weighting Factors'!G10,VLOOKUP($CW10,'Audit Values'!$A$2:$BX$429,51,FALSE))) -> 15 | AZ10: =IF(ISNA(VLOOKUP($CW10,'Audit Values'!$A:$BY,2,FALSE)),"",VLOOKUP($CW10,'Audit Values'!$A:$BY,52,FALSE)) -> A | BA10: =IF('Weighting Factors'!F10="","",IF('Weighting Factors'!H10="Pending","PX","R")) | BB10: =SUM((U10+V10+AA10+AC10+AF10+AI10+AL10+AM10+AQ10+AN10)*'Weighting Factors'!$O$5)+'2024 Legal Max'!AX10 -> 3610954 | BC10: =SUM((AR10+AN10)*'Weighting Factors'!$O$5)+AX10 -> 3987466 | BD10: =IF('Weighting Factors'!F10>0,'Weighting Factors'!F10,'Preliminary SO66'!AV9) -> 4098384 | BE10: =MIN(BC10,BD10) -> 3987466 | BF10: ='Weighting Factors'!E10 -> 0 | BG10: =Transportation!G10 -> 0 | BH10: =IF(ISNA(VLOOKUP($CW10,'Audit Values'!$A:$BW,2,FALSE)), 0, VLOOKUP($CW10,'Audit Values'!$A:$BW,75,FALSE)) -> 0 | BI10: =SUM(BF10:BH10) -> 0 | BJ10: =BE10+BI10 -> 3987466 | BK10: =SUM((U10+V10+AA10+AC10+AF10+AI10+AL10+AM10+AN10)*'Weighting Factors'!O$12)+(MAX(AO10,'Weighting Factors'!B10)) -> 4031938 | BL10: ='LOB%'!F8 -> 0.316 | BM10: =BK10*BL10 -> 1274092 | BN10: 1309055 | BO10: =MIN(BM10,BN10) -> 1274092 | BP10: =BO10/BK10 -> 0.316 | BQ10: =ROUND(IF(U10<=99.9,(U10*1.014331),0),1) -> 0 | BR10: =AND(U10>99.9,U10<=299.9) -> FALSE | BS10: =IF(BR10=TRUE,ROUND((U10-100)*9.655,3),0) -> 0 | BT10: =IF(BR10=TRUE,ROUND(((7337-BS10)/3642.4)-1,6),0) -> 0 | BU10: =ROUND(BT10*U10,1) -> 0 | BV10: =AND(U10>299.9,U10<=1621.9) -> TRUE | BW10: =IF(BV10=TRUE,ROUND((U10-300)*1.2375,4),0) -> 102.7125 | BX10: =IF(BV10=TRUE,ROUND(((5406-BW10)/3642.4)-1,6),0) -> 0.455987 | BY10: =ROUND(BX10*U10,1) -> 174.6 | BZ10: =ROUND(IF(U10>=1622,(U10*0.03504),0),1) -> 0 | CA10: 762 | CB10: =AJ10/CA10 -> 0.213 | CC10: =IF(CB10<0.06,1,IF(CB10>=18.29,52,MATCH(CB10-0.001,'Weighting Factors'!$W$5:$W$156)+1)) -> 16 | CD10: =VLOOKUP(CC10, 'Weighting Factors'!$U$5:$X$56,4) -> 1270 | CE10: =('Weighting Factors'!$O$5/'Weighting Factors'!$O$14) -> 1.2216 | CF10: =AJ10*CD10 -> 205740 | CG10: =CF10*'Weighting Factors'!$Q$7 -> 205740 | CH10: =CG10*CE10 -> 251332 | CI10: =AK10/'Weighting Factors'!$O$5 -> 49.4 | CJ10: 0 | CK10: 0 | CL10: 0 | CM10: =SUM((AR10*'Weighting Factors'!$O$5)+'2024 Legal Max'!AX10)*CL10 -> 0 | CN10: =IF(CK10>CM10,CM10,CK10) -> 0 | CO10: =AE10/AD10 -> 0.4417 | CP10: =IF(CO10>=50%,AE10*10.5%,0) -> 0 | CQ10: =IF(AND(CO10>35%,CO10<50%),AE10*(CO10-35%)*0.7,0) -> 10.5 | CR10: =AS10+AP10 -> 783.7 | CS10: ='Required Transfers'!L10 -> 129957 | CT10: ='Required Transfers'!O10 -> 637 | CU10: ='Required Transfers'!H10 -> 457411 | CV10: =SUM(R10+T10+AT10+AU10+AV10/6+AW10/6) -> 357 | CW10: D0107
A11: 108 | B11: Washington | C11: Washington Co. Schools | D11: 365.1 | F11: 0 | G11: =SUM(D11-E11+F11) -> 365.1 | H11: 347 | J11: 0 | K11: =SUM(H11-I11+J11) -> 347 | L11: 347.5 | N11: 0 | O11: =SUM(L11-M11+N11) -> 347.5 | P11: =IF(ISNA(VLOOKUP($CW11,'Audit Values'!$A:$BZ,2,FALSE)),'Preliminary SO66'!C10,VLOOKUP($CW11,'Audit Values'!$A:$BZ,76,FALSE)) -> 351.4 | Q11: =IF(ISNA(VLOOKUP($CW11,'Audit Values'!$A:$BZ,2,FALSE)),'Preliminary SO66'!F10,VLOOKUP($CW11,'Audit Values'!$A:$BZ,4,FALSE)) -> 0 | R11: =SUM(P11+Q11) -> 351.4 | S11: =IF('Military Provision'!I11="YES", MAX('2024 Legal Max'!O11,'2024 Legal Max'!K11,AVERAGE('2024 Legal Max'!G11,'2024 Legal Max'!K11,'2024 Legal Max'!O11)), MAX(O11, K11)) -> 347.5 | T11: =IF(ISNA(VLOOKUP($CW11,'Audit Values'!$A:$BX,2,FALSE)),'Preliminary SO66'!AL10,VLOOKUP($CW11,'Audit Values'!$A:$BX,59,FALSE)) -> 1.5 | U11: =S11+T11 -> 349 | V11: ='Low-High ENRL- 2023 HSubSB 113'!N14 -> 163.2 | W11: =IF(ISNA(VLOOKUP($CW11,'Audit Values'!$A:$BZ,2,FALSE)),'Preliminary SO66'!AM10,VLOOKUP($CW11,'Audit Values'!$A:$BZ,63,FALSE)) -> 19.3 | X11: =(W11/6)*'Weighting Factors'!$O$7 -> 1.3 | Y11: =IF(ISNA(VLOOKUP($CW11,'Audit Values'!$A:$BZ,2,FALSE)),'Preliminary SO66'!AN10,VLOOKUP($CW11,'Audit Values'!$A:$BZ,62,FALSE)) -> 19 | Z11: =Y11*'Weighting Factors'!$O$8 -> 3.5 | AA11: =MAX(X11,Z11) -> 3.5 | AB11: =IF(ISNA(VLOOKUP($CW11,'Audit Values'!$A:$BZ,2,FALSE)),'Preliminary SO66'!AO10,VLOOKUP($CW11,'Audit Values'!$A:$BZ,61,FALSE)) -> 124.9 | AC11: =AB11/6*'Weighting Factors'!$O$6 -> 10.4 | AD11: =IF(ISNA(VLOOKUP($CW11,'Audit Values'!$A:$BX,2,FALSE)),'Preliminary SO66'!AS10,VLOOKUP($CW11,'Audit Values'!$A:$BX,64,FALSE)) -> 356 | AE11: =IF(ISNA(VLOOKUP($CW11,'Audit Values'!$A:$BX,2,FALSE)),'Preliminary SO66'!AP10,VLOOKUP($CW11,'Audit Values'!$A:$BX,65,FALSE)) -> 149 | AF11: =IF(A11=207, AE11,(AE11))*'Weighting Factors'!$O$9 -> 72.1 | AG11: =MAX(CP11,CQ11) -> 7.1 | AH11: =IF(ISNA(VLOOKUP($CW11,'Audit Values'!$A:$BZ,2,FALSE)),'Preliminary SO66'!AG10,VLOOKUP($CW11,'Audit Values'!$A:$BZ,71,FALSE)) -> 7.1 | AI11: =MAX(AG11, AH11) -> 7.1 | AJ11: =IF(ISNA(VLOOKUP($CW11,'Audit Values'!$A:$BX,2,FALSE)),'Preliminary SO66'!AR10,VLOOKUP($CW11,'Audit Values'!$A:$BX,66,FALSE)) -> 157 | AK11: =CH11 -> 216724 | AL11: =AK11/'Weighting Factors'!$O$5 -> 42.6 | AM11: =CJ11/'Weighting Factors'!$O$5 -> 0 | AN11: =CN11/'Weighting Factors'!$O$5 -> 0 | AO11: 370954 | AP11: =AO11/'Weighting Factors'!$O$5 -> 72.9 | AQ11: =IF(ISNA(VLOOKUP($CW11,'Audit Values'!$A:$BX,2,FALSE)),'Preliminary SO66'!X10,VLOOKUP($CW11,'Audit Values'!$A:$BX,48,FALSE)) -> 0 | AR11: =SUM(U11+V11+AA11+AC11+AF11+AI11+AL11+AM11+AP11+AQ11) -> 720.8 | AS11: =SUM(U11+V11+AA11+AC11+AF11+AI11+AL11+AM11+AN11+AQ11) -> 647.9 | AT11: =IF(ISNA(VLOOKUP($CW11,'Audit Values'!$A$2:$BX$410,2,FALSE)),'Preliminary SO66'!AA10,VLOOKUP($CW11,'Audit Values'!$A$2:$BX$410,41,FALSE)) -> 0 | AU11: =IF(ISNA(VLOOKUP($CW11,'Audit Values'!$A$2:$BX$410,2,FALSE)),'Preliminary SO66'!AB10,VLOOKUP($CW11,'Audit Values'!$A$2:$BX$410,42,FALSE)) -> 0 | AV11: 0 | AW11: 0 | AX11: =SUM(AT11*'Weighting Factors'!$R$10)+('2024 Legal Max'!AU11*'Weighting Factors'!$R$11)+('2024 Legal Max'!AV11*'Weighting Factors'!$R$12)+('2024 Legal Max'!AW11*'Weighting Factors'!$R$12) -> 0 | AY11: =IF(ISNA(VLOOKUP($CW11,'Audit Values'!$A$2:$BX$429,2,FALSE)),"",IF(AND('Weighting Factors'!G11>0,VLOOKUP($CW11,'Audit Values'!$A$2:$BX$429,51,FALSE)<'Weighting Factors'!G11),'Weighting Factors'!G11,VLOOKUP($CW11,'Audit Values'!$A$2:$BX$429,51,FALSE))) -> 25 | AZ11: =IF(ISNA(VLOOKUP($CW11,'Audit Values'!$A:$BY,2,FALSE)),"",VLOOKUP($CW11,'Audit Values'!$A:$BY,52,FALSE)) -> A | BA11: =IF('Weighting Factors'!F11="","",IF('Weighting Factors'!H11="Pending","PX","R")) -> R | BB11: =SUM((U11+V11+AA11+AC11+AF11+AI11+AL11+AM11+AQ11+AN11)*'Weighting Factors'!$O$5)+'2024 Legal Max'!AX11 -> 3296515 | BC11: =SUM((AR11+AN11)*'Weighting Factors'!$O$5)+AX11 -> 3667430 | BD11: =IF('Weighting Factors'!F11>0,'Weighting Factors'!F11,'Preliminary SO66'!AV10) -> 3667430 | BE11: =MIN(BC11,BD11) -> 3667430 | BF11: ='Weighting Factors'!E11 -> 0 | BG11: =Transportation!G11 -> 0 | BH11: =IF(ISNA(VLOOKUP($CW11,'Audit Values'!$A:$BW,2,FALSE)), 0, VLOOKUP($CW11,'Audit Values'!$A:$BW,75,FALSE)) -> 0 | BI11: =SUM(BF11:BH11) -> 0 | BJ11: =BE11+BI11 -> 3667430 | BK11: =SUM((U11+V11+AA11+AC11+AF11+AI11+AL11+AM11+AN11)*'Weighting Factors'!O$12)+(MAX(AO11,'Weighting Factors'!B11)) -> 3890199 | BL11: ='LOB%'!F9 -> 0.33 | BM11: =BK11*BL11 -> 1283766 | BN11: 1272531 | BO11: =MIN(BM11,BN11) -> 1272531 | BP11: =BO11/BK11 -> 0.3271 | BQ11: =ROUND(IF(U11<=99.9,(U11*1.014331),0),1) -> 0 | BR11: =AND(U11>99.9,U11<=299.9) -> FALSE | BS11: =IF(BR11=TRUE,ROUND((U11-100)*9.655,3),0) -> 0 | BT11: =IF(BR11=TRUE,ROUND(((7337-BS11)/3642.4)-1,6),0) -> 0 | BU11: =ROUND(BT11*U11,1) -> 0 | BV11: =AND(U11>299.9,U11<=1621.9) -> TRUE | BW11: =IF(BV11=TRUE,ROUND((U11-300)*1.2375,4),0) -> 60.6375 | BX11: =IF(BV11=TRUE,ROUND(((5406-BW11)/3642.4)-1,6),0) -> 0.467539 | BY11: =ROUND(BX11*U11,1) -> 163.2 | BZ11: =ROUND(IF(U11>=1622,(U11*0.03504),0),1) -> 0 | CA11: 389 | CB11: =AJ11/CA11 -> 0.404 | CC11: =IF(CB11<0.06,1,IF(CB11>=18.29,52,MATCH(CB11-0.001,'Weighting Factors'!$W$5:$W$156)+1)) -> 23 | CD11: =VLOOKUP(CC11, 'Weighting Factors'!$U$5:$X$56,4) -> 1130 | CE11: =('Weighting Factors'!$O$5/'Weighting Factors'!$O$14) -> 1.2216 | CF11: =AJ11*CD11 -> 177410 | CG11: =CF11*'Weighting Factors'!$Q$7 -> 177410 | CH11: =CG11*CE11 -> 216724 | CI11: =AK11/'Weighting Factors'!$O$5 -> 42.6 | CJ11: 0 | CK11: 0 | CL11: 0 | CM11: =SUM((AR11*'Weighting Factors'!$O$5)+'2024 Legal Max'!AX11)*CL11 -> 0 | CN11: =IF(CK11>CM11,CM11,CK11) -> 0 | CO11: =AE11/AD11 -> 0.4185 | CP11: =IF(CO11>=50%,AE11*10.5%,0) -> 0 | CQ11: =IF(AND(CO11>35%,CO11<50%),AE11*(CO11-35%)*0.7,0) -> 7.1 | CR11: =AS11+AP11 -> 720.8 | CS11: ='Required Transfers'!L11 -> 127508 | CT11: ='Required Transfers'!O11 -> 6235 | CU11: ='Required Transfers'!H11 -> 402970 | CV11: =SUM(R11+T11+AT11+AU11+AV11/6+AW11/6) -> 352.9 | CW11: D0108
A12: 109 | B12: Republic | C12: Republic County | D12: 477.4 | F12: 0 | G12: =SUM(D12-E12+F12) -> 477.4 | H12: 498.8 | J12: 0 | K12: =SUM(H12-I12+J12) -> 498.8 | L12: 496.3 | N12: 0 | O12: =SUM(L12-M12+N12) -> 496.3 | P12: =IF(ISNA(VLOOKUP($CW12,'Audit Values'!$A:$BZ,2,FALSE)),'Preliminary SO66'!C11,VLOOKUP($CW12,'Audit Values'!$A:$BZ,76,FALSE)) -> 504.8 | Q12: =IF(ISNA(VLOOKUP($CW12,'Audit Values'!$A:$BZ,2,FALSE)),'Preliminary SO66'!F11,VLOOKUP($CW12,'Audit Values'!$A:$BZ,4,FALSE)) -> 0 | R12: =SUM(P12+Q12) -> 504.8 | S12: =IF('Military Provision'!I12="YES", MAX('2024 Legal Max'!O12,'2024 Legal Max'!K12,AVERAGE('2024 Legal Max'!G12,'2024 Legal Max'!K12,'2024 Legal Max'!O12)), MAX(O12, K12)) -> 498.8 | T12: =IF(ISNA(VLOOKUP($CW12,'Audit Values'!$A:$BX,2,FALSE)),'Preliminary SO66'!AL11,VLOOKUP($CW12,'Audit Values'!$A:$BX,59,FALSE)) -> 4 | U12: =S12+T12 -> 502.8 | V12: ='Low-High ENRL- 2023 HSubSB 113'!N15 -> 208.8 | W12: =IF(ISNA(VLOOKUP($CW12,'Audit Values'!$A:$BZ,2,FALSE)),'Preliminary SO66'!AM11,VLOOKUP($CW12,'Audit Values'!$A:$BZ,63,FALSE)) -> 0 | X12: =(W12/6)*'Weighting Factors'!$O$7 -> 0 | Y12: =IF(ISNA(VLOOKUP($CW12,'Audit Values'!$A:$BZ,2,FALSE)),'Preliminary SO66'!AN11,VLOOKUP($CW12,'Audit Values'!$A:$BZ,62,FALSE)) -> 2 | Z12: =Y12*'Weighting Factors'!$O$8 -> 0.4 | AA12: =MAX(X12,Z12) -> 0.4 | AB12: =IF(ISNA(VLOOKUP($CW12,'Audit Values'!$A:$BZ,2,FALSE)),'Preliminary SO66'!AO11,VLOOKUP($CW12,'Audit Values'!$A:$BZ,61,FALSE)) -> 126.6 | AC12: =AB12/6*'Weighting Factors'!$O$6 -> 10.6 | AD12: =IF(ISNA(VLOOKUP($CW12,'Audit Values'!$A:$BX,2,FALSE)),'Preliminary SO66'!AS11,VLOOKUP($CW12,'Audit Values'!$A:$BX,64,FALSE)) -> 515 | AE12: =IF(ISNA(VLOOKUP($CW12,'Audit Values'!$A:$BX,2,FALSE)),'Preliminary SO66'!AP11,VLOOKUP($CW12,'Audit Values'!$A:$BX,65,FALSE)) -> 231 | AF12: =IF(A12=207, AE12,(AE12))*'Weighting Factors'!$O$9 -> 111.8 | AG12: =MAX(CP12,CQ12) -> 15.9 | AH12: =IF(ISNA(VLOOKUP($CW12,'Audit Values'!$A:$BZ,2,FALSE)),'Preliminary SO66'!AG11,VLOOKUP($CW12,'Audit Values'!$A:$BZ,71,FALSE)) -> 16.1 | AI12: =MAX(AG12, AH12) -> 16.1 | AJ12: =IF(ISNA(VLOOKUP($CW12,'Audit Values'!$A:$BX,2,FALSE)),'Preliminary SO66'!AR11,VLOOKUP($CW12,'Audit Values'!$A:$BX,66,FALSE)) -> 164 | AK12: =CH12 -> 238407 | AL12: =AK12/'Weighting Factors'!$O$5 -> 46.9 | AM12: =CJ12/'Weighting Factors'!$O$5 -> 0 | AN12: =CN12/'Weighting Factors'!$O$5 -> 0 | AO12: 511297 | AP12: =AO12/'Weighting Factors'!$O$5 -> 100.5 | AQ12: =IF(ISNA(VLOOKUP($CW12,'Audit Values'!$A:$BX,2,FALSE)),'Preliminary SO66'!X11,VLOOKUP($CW12,'Audit Values'!$A:$BX,48,FALSE)) -> 0 | AR12: =SUM(U12+V12+AA12+AC12+AF12+AI12+AL12+AM12+AP12+AQ12) -> 997.9 | AS12: =SUM(U12+V12+AA12+AC12+AF12+AI12+AL12+AM12+AN12+AQ12) -> 897.4 | AT12: =IF(ISNA(VLOOKUP($CW12,'Audit Values'!$A$2:$BX$410,2,FALSE)),'Preliminary SO66'!AA11,VLOOKUP($CW12,'Audit Values'!$A$2:$BX$410,41,FALSE)) -> 0 | AU12: =IF(ISNA(VLOOKUP($CW12,'Audit Values'!$A$2:$BX$410,2,FALSE)),'Preliminary SO66'!AB11,VLOOKUP($CW12,'Audit Values'!$A$2:$BX$410,42,FALSE)) -> 0 | AV12: 0 | AW12: 0 | AX12: =SUM(AT12*'Weighting Factors'!$R$10)+('2024 Legal Max'!AU12*'Weighting Factors'!$R$11)+('2024 Legal Max'!AV12*'Weighting Factors'!$R$12)+('2024 Legal Max'!AW12*'Weighting Factors'!$R$12) -> 0 | AY12: =IF(ISNA(VLOOKUP($CW12,'Audit Values'!$A$2:$BX$429,2,FALSE)),"",IF(AND('Weighting Factors'!G12>0,VLOOKUP($CW12,'Audit Values'!$A$2:$BX$429,51,FALSE)<'Weighting Factors'!G12),'Weighting Factors'!G12,VLOOKUP($CW12,'Audit Values'!$A$2:$BX$429,51,FALSE))) -> 19 | AZ12: =IF(ISNA(VLOOKUP($CW12,'Audit Values'!$A:$BY,2,FALSE)),"",VLOOKUP($CW12,'Audit Values'!$A:$BY,52,FALSE)) -> A | BA12: =IF('Weighting Factors'!F12="","",IF('Weighting Factors'!H12="Pending","PX","R")) -> R | BB12: =SUM((U12+V12+AA12+AC12+AF12+AI12+AL12+AM12+AQ12+AN12)*'Weighting Factors'!$O$5)+'2024 Legal Max'!AX12 -> 4565971 | BC12: =SUM((AR12+AN12)*'Weighting Factors'!$O$5)+AX12 -> 5077315 | BD12: =IF('Weighting Factors'!F12>0,'Weighting Factors'!F12,'Preliminary SO66'!AV11) -> 5100720 | BE12: =MIN(BC12,BD12) -> 5077315 | BF12: ='Weighting Factors'!E12 -> 0 | BG12: =Transportation!G12 -> 0 | BH12: =IF(ISNA(VLOOKUP($CW12,'Audit Values'!$A:$BW,2,FALSE)), 0, VLOOKUP($CW12,'Audit Values'!$A:$BW,75,FALSE)) -> 0 | BI12: =SUM(BF12:BH12) -> 0 | BJ12: =BE12+BI12 -> 5077315 | BK12: =SUM((U12+V12+AA12+AC12+AF12+AI12+AL12+AM12+AN12)*'Weighting Factors'!O$12)+(MAX(AO12,'Weighting Factors'!B12)) -> 5244049 | BL12: ='LOB%'!F10 -> 0.316 | BM12: =BK12*BL12 -> 1657119 | BN12: 1645058 | BO12: =MIN(BM12,BN12) -> 1645058 | BP12: =BO12/BK12 -> 0.3137 | BQ12: =ROUND(IF(U12<=99.9,(U12*1.014331),0),1) -> 0 | BR12: =AND(U12>99.9,U12<=299.9) -> FALSE | BS12: =IF(BR12=TRUE,ROUND((U12-100)*9.655,3),0) -> 0 | BT12: =IF(BR12=TRUE,ROUND(((7337-BS12)/3642.4)-1,6),0) -> 0 | BU12: =ROUND(BT12*U12,1) -> 0 | BV12: =AND(U12>299.9,U12<=1621.9) -> TRUE | BW12: =IF(BV12=TRUE,ROUND((U12-300)*1.2375,4),0) -> 250.965 | BX12: =IF(BV12=TRUE,ROUND(((5406-BW12)/3642.4)-1,6),0) -> 0.415285 | BY12: =ROUND(BX12*U12,1) -> 208.8 | BZ12: =ROUND(IF(U12>=1622,(U12*0.03504),0),1) -> 0 | CA12: 560 | CB12: =AJ12/CA12 -> 0.293 | CC12: =IF(CB12<0.06,1,IF(CB12>=18.29,52,MATCH(CB12-0.001,'Weighting Factors'!$W$5:$W$156)+1)) -> 20 | CD12: =VLOOKUP(CC12, 'Weighting Factors'!$U$5:$X$56,4) -> 1190 | CE12: =('Weighting Factors'!$O$5/'Weighting Factors'!$O$14) -> 1.2216 | CF12: =AJ12*CD12 -> 195160 | CG12: =CF12*'Weighting Factors'!$Q$7 -> 195160 | CH12: =CG12*CE12 -> 238407 | CI12: =AK12/'Weighting Factors'!$O$5 -> 46.9 | CJ12: 0 | CK12: 0 | CL12: 0 | CM12: =SUM((AR12*'Weighting Factors'!$O$5)+'2024 Legal Max'!AX12)*CL12 -> 0 | CN12: =IF(CK12>CM12,CM12,CK12) -> 0 | CO12: =AE12/AD12 -> 0.4485 | CP12: =IF(CO12>=50%,AE12*10.5%,0) -> 0 | CQ12: =IF(AND(CO12>35%,CO12<50%),AE12*(CO12-35%)*0.7,0) -> 15.9 | CR12: =AS12+AP12 -> 997.9 | CS12: ='Required Transfers'!L12 -> 185069 | CT12: ='Required Transfers'!O12 -> 658 | CU12: ='Required Transfers'!H12 -> 650755 | CV12: =SUM(R12+T12+AT12+AU12+AV12/6+AW12/6) -> 508.8 | CW12: D0109
A13: 110 | B13: Phillips | C13: Thunder Ridge Schools | D13: 178 | F13: 0 | G13: =SUM(D13-E13+F13) -> 178 | H13: 176 | J13: 0 | K13: =SUM(H13-I13+J13) -> 176 | L13: 169.5 | N13: 0 | O13: =SUM(L13-M13+N13) -> 169.5 | P13: =IF(ISNA(VLOOKUP($CW13,'Audit Values'!$A:$BZ,2,FALSE)),'Preliminary SO66'!C12,VLOOKUP($CW13,'Audit Values'!$A:$BZ,76,FALSE)) -> 172.5 | Q13: =IF(ISNA(VLOOKUP($CW13,'Audit Values'!$A:$BZ,2,FALSE)),'Preliminary SO66'!F12,VLOOKUP($CW13,'Audit Values'!$A:$BZ,4,FALSE)) -> 0 | R13: =SUM(P13+Q13) -> 172.5 | S13: =IF('Military Provision'!I13="YES", MAX('2024 Legal Max'!O13,'2024 Legal Max'!K13,AVERAGE('2024 Legal Max'!G13,'2024 Legal Max'!K13,'2024 Legal Max'!O13)), MAX(O13, K13)) -> 176 | T13: =IF(ISNA(VLOOKUP($CW13,'Audit Values'!$A:$BX,2,FALSE)),'Preliminary SO66'!AL12,VLOOKUP($CW13,'Audit Values'!$A:$BX,59,FALSE)) -> 2 | U13: =S13+T13 -> 178 | V13: ='Low-High ENRL- 2023 HSubSB 113'!N16 -> 143.7 | W13: =IF(ISNA(VLOOKUP($CW13,'Audit Values'!$A:$BZ,2,FALSE)),'Preliminary SO66'!AM12,VLOOKUP($CW13,'Audit Values'!$A:$BZ,63,FALSE)) -> 0 | X13: =(W13/6)*'Weighting Factors'!$O$7 -> 0 | Y13: =IF(ISNA(VLOOKUP($CW13,'Audit Values'!$A:$BZ,2,FALSE)),'Preliminary SO66'!AN12,VLOOKUP($CW13,'Audit Values'!$A:$BZ,62,FALSE)) -> 0 | Z13: =Y13*'Weighting Factors'!$O$8 -> 0 | AA13: =MAX(X13,Z13) -> 0 | AB13: =IF(ISNA(VLOOKUP($CW13,'Audit Values'!$A:$BZ,2,FALSE)),'Preliminary SO66'!AO12,VLOOKUP($CW13,'Audit Values'!$A:$BZ,61,FALSE)) -> 56.3 | AC13: =AB13/6*'Weighting Factors'!$O$6 -> 4.7 | AD13: =IF(ISNA(VLOOKUP($CW13,'Audit Values'!$A:$BX,2,FALSE)),'Preliminary SO66'!AS12,VLOOKUP($CW13,'Audit Values'!$A:$BX,64,FALSE)) -> 179 | AE13: =IF(ISNA(VLOOKUP($CW13,'Audit Values'!$A:$BX,2,FALSE)),'Preliminary SO66'!AP12,VLOOKUP($CW13,'Audit Values'!$A:$BX,65,FALSE)) -> 55 | AF13: =IF(A13=207, AE13,(AE13))*'Weighting Factors'!$O$9 -> 26.6 | AG13: =MAX(CP13,CQ13) -> 0 | AH13: =IF(ISNA(VLOOKUP($CW13,'Audit Values'!$A:$BZ,2,FALSE)),'Preliminary SO66'!AG12,VLOOKUP($CW13,'Audit Values'!$A:$BZ,71,FALSE)) -> 0.3 | AI13: =MAX(AG13, AH13) -> 0.3 | AJ13: =IF(ISNA(VLOOKUP($CW13,'Audit Values'!$A:$BX,2,FALSE)),'Preliminary SO66'!AR12,VLOOKUP($CW13,'Audit Values'!$A:$BX,66,FALSE)) -> 111 | AK13: =CH13 -> 169497 | AL13: =AK13/'Weighting Factors'!$O$5 -> 33.3 | AM13: =CJ13/'Weighting Factors'!$O$5 -> 0 | AN13: =CN13/'Weighting Factors'!$O$5 -> 0 | AO13: 211450 | AP13: =AO13/'Weighting Factors'!$O$5 -> 41.6 | AQ13: =IF(ISNA(VLOOKUP($CW13,'Audit Values'!$A:$BX,2,FALSE)),'Preliminary SO66'!X12,VLOOKUP($CW13,'Audit Values'!$A:$BX,48,FALSE)) -> 0 | AR13: =SUM(U13+V13+AA13+AC13+AF13+AI13+AL13+AM13+AP13+AQ13) -> 428.2 | AS13: =SUM(U13+V13+AA13+AC13+AF13+AI13+AL13+AM13+AN13+AQ13) -> 386.6 | AT13: =IF(ISNA(VLOOKUP($CW13,'Audit Values'!$A$2:$BX$410,2,FALSE)),'Preliminary SO66'!AA12,VLOOKUP($CW13,'Audit Values'!$A$2:$BX$410,41,FALSE)) -> 0 | AU13: =IF(ISNA(VLOOKUP($CW13,'Audit Values'!$A$2:$BX$410,2,FALSE)),'Preliminary SO66'!AB12,VLOOKUP($CW13,'Audit Values'!$A$2:$BX$410,42,FALSE)) -> 0 | AV13: 0 | AW13: 0 | AX13: =SUM(AT13*'Weighting Factors'!$R$10)+('2024 Legal Max'!AU13*'Weighting Factors'!$R$11)+('2024 Legal Max'!AV13*'Weighting Factors'!$R$12)+('2024 Legal Max'!AW13*'Weighting Factors'!$R$12) -> 0 | AY13: =IF(ISNA(VLOOKUP($CW13,'Audit Values'!$A$2:$BX$429,2,FALSE)),"",IF(AND('Weighting Factors'!G13>0,VLOOKUP($CW13,'Audit Values'!$A$2:$BX$429,51,FALSE)<'Weighting Factors'!G13),'Weighting Factors'!G13,VLOOKUP($CW13,'Audit Values'!$A$2:$BX$429,51,FALSE))) -> 7 | AZ13: =IF(ISNA(VLOOKUP($CW13,'Audit Values'!$A:$BY,2,FALSE)),"",VLOOKUP($CW13,'Audit Values'!$A:$BY,52,FALSE)) -> A | BA13: =IF('Weighting Factors'!F13="","",IF('Weighting Factors'!H13="Pending","PX","R")) | BB13: =SUM((U13+V13+AA13+AC13+AF13+AI13+AL13+AM13+AQ13+AN13)*'Weighting Factors'!$O$5)+'2024 Legal Max'!AX13 -> 1967021 | BC13: =SUM((AR13+AN13)*'Weighting Factors'!$O$5)+AX13 -> 2178682 | BD13: =IF('Weighting Factors'!F13>0,'Weighting Factors'!F13,'Preliminary SO66'!AV12) -> 2316058 | BE13: =MIN(BC13,BD13) -> 2178682 | BF13: ='Weighting Factors'!E13 -> 0 | BG13: =Transportation!G13 -> 0 | BH13: =IF(ISNA(VLOOKUP($CW13,'Audit Values'!$A:$BW,2,FALSE)), 0, VLOOKUP($CW13,'Audit Values'!$A:$BW,75,FALSE)) -> 0 | BI13: =SUM(BF13:BH13) -> 0 | BJ13: =BE13+BI13 -> 2178682 | BK13: =SUM((U13+V13+AA13+AC13+AF13+AI13+AL13+AM13+AN13)*'Weighting Factors'!O$12)+(MAX(AO13,'Weighting Factors'!B13)) -> 2328014 | BL13: ='LOB%'!F11 -> 0.316 | BM13: =BK13*BL13 -> 735652 | BN13: 773793 | BO13: =MIN(BM13,BN13) -> 735652 | BP13: =BO13/BK13 -> 0.316 | BQ13: =ROUND(IF(U13<=99.9,(U13*1.014331),0),1) -> 0 | BR13: =AND(U13>99.9,U13<=299.9) -> TRUE | BS13: =IF(BR13=TRUE,ROUND((U13-100)*9.655,3),0) -> 753.09 | BT13: =IF(BR13=TRUE,ROUND(((7337-BS13)/3642.4)-1,6),0) -> 0.807575 | BU13: =ROUND(BT13*U13,1) -> 143.7 | BV13: =AND(U13>299.9,U13<=1621.9) -> FALSE | BW13: =IF(BV13=TRUE,ROUND((U13-300)*1.2375,4),0) -> 0 | BX13: =IF(BV13=TRUE,ROUND(((5406-BW13)/3642.4)-1,6),0) -> 0 | BY13: =ROUND(BX13*U13,1) -> 0 | BZ13: =ROUND(IF(U13>=1622,(U13*0.03504),0),1) -> 0 | CA13: 491 | CB13: =AJ13/CA13 -> 0.226 | CC13: =IF(CB13<0.06,1,IF(CB13>=18.29,52,MATCH(CB13-0.001,'Weighting Factors'!$W$5:$W$156)+1)) -> 17 | CD13: =VLOOKUP(CC13, 'Weighting Factors'!$U$5:$X$56,4) -> 1250 | CE13: =('Weighting Factors'!$O$5/'Weighting Factors'!$O$14) -> 1.2216 | CF13: =AJ13*CD13 -> 138750 | CG13: =CF13*'Weighting Factors'!$Q$7 -> 138750 | CH13: =CG13*CE13 -> 169497 | CI13: =AK13/'Weighting Factors'!$O$5 -> 33.3 | CJ13: 0 | CK13: 0 | CL13: 0 | CM13: =SUM((AR13*'Weighting Factors'!$O$5)+'2024 Legal Max'!AX13)*CL13 -> 0 | CN13: =IF(CK13>CM13,CM13,CK13) -> 0 | CO13: =AE13/AD13 -> 0.3073 | CP13: =IF(CO13>=50%,AE13*10.5%,0) -> 0 | CQ13: =IF(AND(CO13>35%,CO13<50%),AE13*(CO13-35%)*0.7,0) -> 0 | CR13: =AS13+AP13 -> 428.2 | CS13: ='Required Transfers'!L13 -> 45905 | CT13: ='Required Transfers'!O13 -> 0 | CU13: ='Required Transfers'!H13 -> 136867 | CV13: =SUM(R13+T13+AT13+AU13+AV13/6+AW13/6) -> 174.5 | CW13: D0110
