Workbook
Name ValidatedTestOptions: 'Drop down lists'!$F$1:$F$10
Name Validtest: 'Drop down lists'!$F$1:$F$10
Name Worldlanguages: 'Drop down lists'!$F$18:$F$48

Sheet Notes and Instructions

Sheet Eligibility Criteria
A1: Student ID Number (KIDS 10-digit state ID) | B1: Student First Name(s) | C1: Student Last Name(s) | D1: Validated Test Options for English If a student has two validated English assessments, for example ACT and the 10th Grade ELA assessment, then choose the highest score. (Select from drop-down menu.) | E1: Decision 2 Formula | F1: World Language Assessment - Proficiency Verification Language proficiency assessments can be taken at any time in high school and the scores can be “banked” until the student graduates. Students can retake language assessments throughout their high school career to certify the highest proficiency level a student has achieved by the time of graduation. (Select from drop-down menu.) | G1: Decision 3 Formula | H1: Language Other than English (Only capitalize the first letter of each word) | I1: Capitalize first letter code | J1: Silver or Gold (will calculate automatically) | K1: Graduation Year of student Do not enter data for students who will not graduate this year. (The Seal of Biliteracy is only awarded to graduating seniors.) | L1: District Number (3 digits) | M1: District Name | N1: Name of High School | O1: Building Number (3-4 digits) | P1: Name of District Contact | Q1: District Contact Email | R1: Notes: (Use this column if you need to add extra information about the student or the student's results, for example there is a tilda accent on the N, etc.) | S1: Decision 1 | T1: Decision 2 | U1: Decision 3 | V1: Total
A2: 1234567890 | B2: Arwen | C2: Undómiel | D2: ACT Reading or English Score - 20 or higher = (Qualified) | E2: =IF(ISNUMBER(SEARCH("(Qualified)",D2)),"Qualified", "Does Not Qualify") -> Qualified | F2: AAPPL - Advanced (A) = (Gold) | G2: =IF(ISNUMBER(SEARCH("(Gold)",F2)),"Gold", IF(ISNUMBER(SEARCH("(Silver)",F2)),"Silver", "Does Not Qualify")) -> Gold | H2: Elivish | I2: =PROPER(H2) -> Elivish | J2: =IF(H2="","",IF(V2<2,"Not Qualified",IF(V2=3,"Gold","Silver"))) -> Gold | K2: 2027 | L2: 999 | M2: Middle Earth | N2: Gondolin High School | O2: 1234 | P2: Joann Smith | Q2: joanns@fakeemail.com | S2: N/A | T2: =IF(E2="Qualified", 0, -3) -> 0 | U2: =IF(G2="Gold", 3, IF(G2="Silver", 2, -1)) -> 3 | V2: =SUM(T2:U2) -> 3
E3: =IF(ISNUMBER(SEARCH("(Qualified)",D3)),"Qualified", "Does Not Qualify") -> Does Not Qualify | G3: =IF(ISNUMBER(SEARCH("(Gold)",F3)),"Gold", IF(ISNUMBER(SEARCH("(Silver)",F3)),"Silver", "Does Not Qualify")) -> Does Not Qualify | I3: =PROPER(H3) | J3: =IF(H3="","",IF(V3<2,"Not Qualified",IF(V3=3,"Gold","Silver"))) | M3: =IFERROR(VLOOKUP(L3,'Drop down lists'!$A$1:$B$286,2,FALSE),"") | S3: N/A | T3: =IF(E3="Qualified", 0, -3) -> -3 | U3: =IF(G3="Gold", 3, IF(G3="Silver", 2, -1)) -> -1 | V3: =SUM(T3:U3) -> -4
E4: =IF(ISNUMBER(SEARCH("(Qualified)",D4)),"Qualified", "Does Not Qualify") -> Does Not Qualify | G4: =IF(ISNUMBER(SEARCH("(Gold)",F4)),"Gold", IF(ISNUMBER(SEARCH("(Silver)",F4)),"Silver", "Does Not Qualify")) -> Does Not Qualify | I4: =PROPER(H4) | J4: =IF(H4="","",IF(V4<2,"Not Qualified",IF(V4=3,"Gold","Silver"))) | M4: =IFERROR(VLOOKUP(L4,'Drop down lists'!$A$1:$B$286,2,FALSE),"") | S4: N/A | T4: =IF(E4="Qualified", 0, -3) -> -3 | U4: =IF(G4="Gold", 3, IF(G4="Silver", 2, -1)) -> -1 | V4: =SUM(T4:U4) -> -4
E5: =IF(ISNUMBER(SEARCH("(Qualified)",D5)),"Qualified", "Does Not Qualify") -> Does Not Qualify | G5: =IF(ISNUMBER(SEARCH("(Gold)",F5)),"Gold", IF(ISNUMBER(SEARCH("(Silver)",F5)),"Silver", "Does Not Qualify")) -> Does Not Qualify | I5: =PROPER(H5) | J5: =IF(H5="","",IF(V5<2,"Not Qualified",IF(V5=3,"Gold","Silver"))) | M5: =IFERROR(VLOOKUP(L5,'Drop down lists'!$A$1:$B$286,2,FALSE),"") | S5: N/A | T5: =IF(E5="Qualified", 0, -3) -> -3 | U5: =IF(G5="Gold", 3, IF(G5="Silver", 2, -1)) -> -1 | V5: =SUM(T5:U5) -> -4
E6: =IF(ISNUMBER(SEARCH("(Qualified)",D6)),"Qualified", "Does Not Qualify") -> Does Not Qualify | G6: =IF(ISNUMBER(SEARCH("(Gold)",F6)),"Gold", IF(ISNUMBER(SEARCH("(Silver)",F6)),"Silver", "Does Not Qualify")) -> Does Not Qualify | I6: =PROPER(H6) | J6: =IF(H6="","",IF(V6<2,"Not Qualified",IF(V6=3,"Gold","Silver"))) | M6: =IFERROR(VLOOKUP(L6,'Drop down lists'!$A$1:$B$286,2,FALSE),"") | S6: N/A | T6: =IF(E6="Qualified", 0, -3) -> -3 | U6: =IF(G6="Gold", 3, IF(G6="Silver", 2, -1)) -> -1 | V6: =SUM(T6:U6) -> -4
E7: =IF(ISNUMBER(SEARCH("(Qualified)",D7)),"Qualified", "Does Not Qualify") -> Does Not Qualify | G7: =IF(ISNUMBER(SEARCH("(Gold)",F7)),"Gold", IF(ISNUMBER(SEARCH("(Silver)",F7)),"Silver", "Does Not Qualify")) -> Does Not Qualify | I7: =PROPER(H7) | J7: =IF(H7="","",IF(V7<2,"Not Qualified",IF(V7=3,"Gold","Silver"))) | M7: =IFERROR(VLOOKUP(L7,'Drop down lists'!$A$1:$B$286,2,FALSE),"") | S7: N/A | T7: =IF(E7="Qualified", 0, -3) -> -3 | U7: =IF(G7="Gold", 3, IF(G7="Silver", 2, -1)) -> -1 | V7: =SUM(T7:U7) -> -4
E8: =IF(ISNUMBER(SEARCH("(Qualified)",D8)),"Qualified", "Does Not Qualify") -> Does Not Qualify | G8: =IF(ISNUMBER(SEARCH("(Gold)",F8)),"Gold", IF(ISNUMBER(SEARCH("(Silver)",F8)),"Silver", "Does Not Qualify")) -> Does Not Qualify | I8: =PROPER(H8) | J8: =IF(H8="","",IF(V8<2,"Not Qualified",IF(V8=3,"Gold","Silver"))) | M8: =IFERROR(VLOOKUP(L8,'Drop down lists'!$A$1:$B$286,2,FALSE),"") | S8: N/A | T8: =IF(E8="Qualified", 0, -3) -> -3 | U8: =IF(G8="Gold", 3, IF(G8="Silver", 2, -1)) -> -1 | V8: =SUM(T8:U8) -> -4
E9: =IF(ISNUMBER(SEARCH("(Qualified)",D9)),"Qualified", "Does Not Qualify") -> Does Not Qualify | G9: =IF(ISNUMBER(SEARCH("(Gold)",F9)),"Gold", IF(ISNUMBER(SEARCH("(Silver)",F9)),"Silver", "Does Not Qualify")) -> Does Not Qualify | I9: =PROPER(H9) | J9: =IF(H9="","",IF(V9<2,"Not Qualified",IF(V9=3,"Gold","Silver"))) | M9: =IFERROR(VLOOKUP(L9,'Drop down lists'!$A$1:$B$286,2,FALSE),"") | S9: N/A | T9: =IF(E9="Qualified", 0, -3) -> -3 | U9: =IF(G9="Gold", 3, IF(G9="Silver", 2, -1)) -> -1 | V9: =SUM(T9:U9) -> -4
E10: =IF(ISNUMBER(SEARCH("(Qualified)",D10)),"Qualified", "Does Not Qualify") -> Does Not Qualify | G10: =IF(ISNUMBER(SEARCH("(Gold)",F10)),"Gold", IF(ISNUMBER(SEARCH("(Silver)",F10)),"Silver", "Does Not Qualify")) -> Does Not Qualify | I10: =PROPER(H10) | J10: =IF(H10="","",IF(V10<2,"Not Qualified",IF(V10=3,"Gold","Silver"))) | M10: =IFERROR(VLOOKUP(L10,'Drop down lists'!$A$1:$B$286,2,FALSE),"") | S10: N/A | T10: =IF(E10="Qualified", 0, -3) -> -3 | U10: =IF(G10="Gold", 3, IF(G10="Silver", 2, -1)) -> -1 | V10: =SUM(T10:U10) -> -4
E11: =IF(ISNUMBER(SEARCH("(Qualified)",D11)),"Qualified", "Does Not Qualify") -> Does Not Qualify | G11: =IF(ISNUMBER(SEARCH("(Gold)",F11)),"Gold", IF(ISNUMBER(SEARCH("(Silver)",F11)),"Silver", "Does Not Qualify")) -> Does Not Qualify | I11: =PROPER(H11) | J11: =IF(H11="","",IF(V11<2,"Not Qualified",IF(V11=3,"Gold","Silver"))) | M11: =IFERROR(VLOOKUP(L11,'Drop down lists'!$A$1:$B$286,2,FALSE),"") | S11: N/A | T11: =IF(E11="Qualified", 0, -3) -> -3 | U11: =IF(G11="Gold", 3, IF(G11="Silver", 2, -1)) -> -1 | V11: =SUM(T11:U11) -> -4
E12: =IF(ISNUMBER(SEARCH("(Qualified)",D12)),"Qualified", "Does Not Qualify") -> Does Not Qualify | G12: =IF(ISNUMBER(SEARCH("(Gold)",F12)),"Gold", IF(ISNUMBER(SEARCH("(Silver)",F12)),"Silver", "Does Not Qualify")) -> Does Not Qualify | I12: =PROPER(H12) | J12: =IF(H12="","",IF(V12<2,"Not Qualified",IF(V12=3,"Gold","Silver"))) | M12: =IFERROR(VLOOKUP(L12,'Drop down lists'!$A$1:$B$286,2,FALSE),"") | S12: N/A | T12: =IF(E12="Qualified", 0, -3) -> -3 | U12: =IF(G12="Gold", 3, IF(G12="Silver", 2, -1)) -> -1 | V12: =SUM(T12:U12) -> -4
E13: =IF(ISNUMBER(SEARCH("(Qualified)",D13)),"Qualified", "Does Not Qualify") -> Does Not Qualify | G13: =IF(ISNUMBER(SEARCH("(Gold)",F13)),"Gold", IF(ISNUMBER(SEARCH("(Silver)",F13)),"Silver", "Does Not Qualify")) -> Does Not Qualify | I13: =PROPER(H13) | J13: =IF(H13="","",IF(V13<2,"Not Qualified",IF(V13=3,"Gold","Silver"))) | M13: =IFERROR(VLOOKUP(L13,'Drop down lists'!$A$1:$B$286,2,FALSE),"") | S13: N/A | T13: =IF(E13="Qualified", 0, -3) -> -3 | U13: =IF(G13="Gold", 3, IF(G13="Silver", 2, -1)) -> -1 | V13: =SUM(T13:U13) -> -4
E14: =IF(ISNUMBER(SEARCH("(Qualified)",D14)),"Qualified", "Does Not Qualify") -> Does Not Qualify | G14: =IF(ISNUMBER(SEARCH("(Gold)",F14)),"Gold", IF(ISNUMBER(SEARCH("(Silver)",F14)),"Silver", "Does Not Qualify")) -> Does Not Qualify | I14: =PROPER(H14) | J14: =IF(H14="","",IF(V14<2,"Not Qualified",IF(V14=3,"Gold","Silver"))) | M14: =IFERROR(VLOOKUP(L14,'Drop down lists'!$A$1:$B$286,2,FALSE),"") | S14: N/A | T14: =IF(E14="Qualified", 0, -3) -> -3 | U14: =IF(G14="Gold", 3, IF(G14="Silver", 2, -1)) -> -1 | V14: =SUM(T14:U14) -> -4
... E196: =IF(ISNUMBER(SEARCH("(Qualified)",D196)),"Qualified", "Does Not Qualify") -> Does Not Qualify | G196: =IF(ISNUMBER(SEARCH("(Gold)",F196)),"Gold", IF(ISNUMBER(SEARCH("(Silver)",F196)),"Silver", "Does Not Qualify")) -> Does Not Qualify | I196: =PROPER(H196) | J196: =IF(H196="","",IF(V196<2,"Not Qualified",IF(V196=3,"Gold","Silver"))) | M196: =IFERROR(VLOOKUP(L196,'Drop down lists'!$A$1:$B$286,2,FALSE),"") | S196: N/A | T196: =IF(E196="Qualified", 0, -3) -> -3 | U196: =IF(G196="Gold", 3, IF(G196="Silver", 2, -1)) -> -1 | V196: =SUM(T196:U196) -> -4
E197: =IF(ISNUMBER(SEARCH("(Qualified)",D197)),"Qualified", "Does Not Qualify") -> Does Not Qualify | G197: =IF(ISNUMBER(SEARCH("(Gold)",F197)),"Gold", IF(ISNUMBER(SEARCH("(Silver)",F197)),"Silver", "Does Not Qualify")) -> Does Not Qualify | I197: =PROPER(H197) | M197: =IFERROR(VLOOKUP(L197,'Drop down lists'!$A$1:$B$286,2,FALSE),"") | S197: N/A | T197: =IF(E197="Qualified", 0, -3) -> -3 | U197: =IF(G197="Gold", 3, IF(G197="Silver", 2, -1)) -> -1 | V197: =SUM(T197:U197) -> -4
E198: =IF(ISNUMBER(SEARCH("(Qualified)",D198)),"Qualified", "Does Not Qualify") -> Does Not Qualify | G198: =IF(ISNUMBER(SEARCH("(Gold)",F198)),"Gold", IF(ISNUMBER(SEARCH("(Silver)",F198)),"Silver", "Does Not Qualify")) -> Does Not Qualify | I198: =PROPER(H198) | M198: =IFERROR(VLOOKUP(L198,'Drop down lists'!$A$1:$B$286,2,FALSE),"")
E199: =IF(ISNUMBER(SEARCH("(Qualified)",D199)),"Qualified", "Does Not Qualify") -> Does Not Qualify | G199: =IF(ISNUMBER(SEARCH("(Gold)",F199)),"Gold", IF(ISNUMBER(SEARCH("(Silver)",F199)),"Silver", "Does Not Qualify")) -> Does Not Qualify | I199: =PROPER(H199) | M199: =IFERROR(VLOOKUP(L199,'Drop down lists'!$A$1:$B$286,2,FALSE),"")
E200: =IF(ISNUMBER(SEARCH("(Qualified)",D200)),"Qualified", "Does Not Qualify") -> Does Not Qualify | G200: =IF(ISNUMBER(SEARCH("(Gold)",F200)),"Gold", IF(ISNUMBER(SEARCH("(Silver)",F200)),"Silver", "Does Not Qualify")) -> Does Not Qualify | I200: =PROPER(H200) | M200: =IFERROR(VLOOKUP(L200,'Drop down lists'!$A$1:$B$286,2,FALSE),"")
E201: =IF(ISNUMBER(SEARCH("(Qualified)",D201)),"Qualified", "Does Not Qualify") -> Does Not Qualify | G201: =IF(ISNUMBER(SEARCH("(Gold)",F201)),"Gold", IF(ISNUMBER(SEARCH("(Silver)",F201)),"Silver", "Does Not Qualify")) -> Does Not Qualify | I201: =PROPER(H201) | M201: =IFERROR(VLOOKUP(L201,'Drop down lists'!$A$1:$B$286,2,FALSE),"")
E202: =IF(ISNUMBER(SEARCH("(Qualified)",D202)),"Qualified", "Does Not Qualify") -> Does Not Qualify | G202: =IF(ISNUMBER(SEARCH("(Gold)",F202)),"Gold", IF(ISNUMBER(SEARCH("(Silver)",F202)),"Silver", "Does Not Qualify")) -> Does Not Qualify | I202: =PROPER(H202) | M202: =IFERROR(VLOOKUP(L202,'Drop down lists'!$A$1:$B$286,2,FALSE),"")
E203: =IF(ISNUMBER(SEARCH("(Qualified)",D203)),"Qualified", "Does Not Qualify") -> Does Not Qualify | G203: =IF(ISNUMBER(SEARCH("(Gold)",F203)),"Gold", IF(ISNUMBER(SEARCH("(Silver)",F203)),"Silver", "Does Not Qualify")) -> Does Not Qualify | I203: =PROPER(H203) | M203: =IFERROR(VLOOKUP(L203,'Drop down lists'!$A$1:$B$286,2,FALSE),"")
E204: =IF(ISNUMBER(SEARCH("(Qualified)",D204)),"Qualified", "Does Not Qualify") -> Does Not Qualify | G204: =IF(ISNUMBER(SEARCH("(Gold)",F204)),"Gold", IF(ISNUMBER(SEARCH("(Silver)",F204)),"Silver", "Does Not Qualify")) -> Does Not Qualify | I204: =PROPER(H204) | M204: =IFERROR(VLOOKUP(L204,'Drop down lists'!$A$1:$B$286,2,FALSE),"")
E205: =IF(ISNUMBER(SEARCH("(Qualified)",D205)),"Qualified", "Does Not Qualify") -> Does Not Qualify | G205: =IF(ISNUMBER(SEARCH("(Gold)",F205)),"Gold", IF(ISNUMBER(SEARCH("(Silver)",F205)),"Silver", "Does Not Qualify")) -> Does Not Qualify | I205: =PROPER(H205) | M205: =IFERROR(VLOOKUP(L205,'Drop down lists'!$A$1:$B$286,2,FALSE),"")
E206: =IF(ISNUMBER(SEARCH("(Qualified)",D206)),"Qualified", "Does Not Qualify") -> Does Not Qualify | G206: =IF(ISNUMBER(SEARCH("(Gold)",F206)),"Gold", IF(ISNUMBER(SEARCH("(Silver)",F206)),"Silver", "Does Not Qualify")) -> Does Not Qualify | I206: =PROPER(H206) | M206: =IFERROR(VLOOKUP(L206,'Drop down lists'!$A$1:$B$286,2,FALSE),"")
E207: =IF(ISNUMBER(SEARCH("(Qualified)",D207)),"Qualified", "Does Not Qualify") -> Does Not Qualify | G207: =IF(ISNUMBER(SEARCH("(Gold)",F207)),"Gold", IF(ISNUMBER(SEARCH("(Silver)",F207)),"Silver", "Does Not Qualify")) -> Does Not Qualify | I207: =PROPER(H207) | M207: =IFERROR(VLOOKUP(L207,'Drop down lists'!$A$1:$B$286,2,FALSE),"")
E208: =IF(ISNUMBER(SEARCH("(Qualified)",D208)),"Qualified", "Does Not Qualify") -> Does Not Qualify | G208: =IF(ISNUMBER(SEARCH("(Gold)",F208)),"Gold", IF(ISNUMBER(SEARCH("(Silver)",F208)),"Silver", "Does Not Qualify")) -> Does Not Qualify | I208: =PROPER(H208) | M208: =IFERROR(VLOOKUP(L208,'Drop down lists'!$A$1:$B$286,2,FALSE),"")
E209: =IF(ISNUMBER(SEARCH("(Qualified)",D209)),"Qualified", "Does Not Qualify") -> Does Not Qualify | G209: =IF(ISNUMBER(SEARCH("(Gold)",F209)),"Gold", IF(ISNUMBER(SEARCH("(Silver)",F209)),"Silver", "Does Not Qualify")) -> Does Not Qualify | I209: =PROPER(H209) | M209: =IFERROR(VLOOKUP(L209,'Drop down lists'!$A$1:$B$286,2,FALSE),"")
... E296: =IF(ISNUMBER(SEARCH("(Qualified)",D296)),"Qualified", "Does Not Qualify") -> Does Not Qualify | G296: =IF(ISNUMBER(SEARCH("(Gold)",F296)),"Gold", IF(ISNUMBER(SEARCH("(Silver)",F296)),"Silver", "Does Not Qualify")) -> Does Not Qualify | I296: =PROPER(H296) | M296: =IFERROR(VLOOKUP(L296,'Drop down lists'!$A$1:$B$286,2,FALSE),"")

Sheet Drop down lists
A1: 101 | B1: Erie-Galesburg | E1: AAPPL | F1: AAPPL - Intermediate-2 or higher (Note: Do not average the scores) = (Qualified) | H1: 1 | I1: Student was never classified as an English Learner
A2: 102 | B2: Cimarron-Ensign | E2: ACT | F2: ACT Reading or English Score - 20 or higher = (Qualified) | H2: 2 | I2: Student was never classified as an EL, but their first language is not English
A3: 103 | B3: Cheylin | E3: ACT Writing | F3: ACT Writing Score - 6 or higher = (Qualified) | H3: 3 | I3: Student received ESOL services this academic year
A4: 105 | B4: Rawlins County | E4: AP | F4: AP - 3 or higher = (Qualified) | H4: 4 | I4: Student received ESOL services but not during the current academic year
A5: 106 | B5: Western Plains | E5: KAP | F5: KAP - ELA score of 3 or higher = (Qualified) | H5: 5 | I5: None of the above describe this student (Add explanation in Notes box)
A6: 107 | B6: Rock Hills | E6: IB | F6: IB - 4 or higher = (Qualified)
A7: 108 | B7: Washington County Schools | E7: KELPA | F7: KELPA - (grade 9-12) - minimum of 3 in all four modes of communication = (Qualified)
A8: 109 | B8: Republic County | E8: SoBAAP | F8: SoBAAP - Intermediate Mid or higher on all applicable modes of communication = (Qualified) | I8: Keep these in the same order as Definitions page!!!
A9: 110 | B9: Thunder Ridge Schools | E9: STAMP 4S | F9: STAMP - Intermediate Mid or higher (Note: Do not average the scores) = (Qualified)
A10: 111 | B10: Doniphan West Schools | E10: TOEFL | F10: TOEFL Speaking and Writing - 3 or higher on Speaking AND 4 or higher on Writing = (Qualified)
A11: 112 | B11: Central Plains | E11: TOEFL Jr | F11: TOEFL Junior (Test of English as a Foreign Language, Junior) - Accomplished (4) or higher = (Qualified)
A12: 113 | B12: Prairie Hills
A13: 114 | B13: Riverside
A14: 115 | B14: Nemaha Central
A15: 200 | B15: Greeley County Schools | E15: * Not valid choices for 2021-2022 school year because ELA tests were not given in the 2019-2020 school year. | G15: update this | I15: Total number of World Language students that received the Seal in 2018-19. (These are students who were never classsified as Els or Heritage Speakers of other languages.)
A16: 202 | B16: Turner-Kansas City | E16: KELPA descriptions will change each year until schoool year 2023 | G16: update this | I16: Total number of CURRENT English Learners that received the Seal in 2018-19. (These are students who were identified as Els and who, at the beginning of the 2018-19 school year, had not tested out)
A17: 203 | B17: Piper-Kansas City | I17: Total number of FORMER ELs that received the Seal in 2018-19. (These are students who were previously identified as Els, but who by at least the beginning of the 2018-19 school year, had tested out (although they still may re receiving EL services)
A18: 204 | B18: Bonner Springs | E18: AAPPL 1 Silver | F18: AAPPL - Intermediate-2 (I-2) or higher = (Silver) | I18: Total number of Heritage Speakers of Other Languages that received the Seal in 2018-2019. (These are students who were never identified as English Learners, but whose home language is other than English.)
A19: 205 | B19: Bluestem | E19: AAPPL 2 Gold | F19: AAPPL - Advanced (A) = (Gold)
A20: 206 | B20: Remington-Whitewater | E20: ALIRA 1 Silver | F20: ALIRA - Intermediate-2 (I-2) or higher = (Silver)
A21: 207 | B21: Fort Leavenworth | E21: ALIRA 2 Gold | F21: ALIRA - Advanced (A) = (Gold)
A22: 208 | B22: Wakeeney | E22: ALTA 1 | F22: ALTA - 7 or 8 (Note: do not average the scores) = (Silver)
A23: 209 | B23: Moscow Public Schools | E23: ALTA 2 | F23: ALTA - 9 or higher (Note: do not average the scores) = (Gold)
A24: 210 | B24: Hugoton Public Schools | E24: AP 1 Silver | F24: AP - 3 or higher, but less than 5 = (Silver)
A25: 211 | B25: Norton Community Schools | E25: AP 2 Gold | F25: AP - 5 = (Gold)
A26: 212 | B26: Northern Valley | E26: CEFR 1 Silver | F26: CEFR - B1 or higher = (Silver)
A27: 214 | B27: Ulysses | E27: CEFR 2 Gold | F27: CEFR - B2 or higher = (Gold)
A28: 215 | B28: Lakin | E28: DELE 1 Silver | F28: DELE - B1 or higher = (Silver)
A29: 216 | B29: Deerfield | E29: DELE 2 Gold | F29: DELE - B2 or higher = (Gold)
A30: 217 | B30: Rolla | E30: DELF 1 Silver | F30: DELF junior or scolair - B1 or higher = (Silver)
A31: 218 | B31: Elkhart | E31: DELF 2 Gold | F31: DELF junior or scolair - B2 or higher = (Gold) | I31: Student was never classified as an English Learner
A32: 219 | B32: Minneola | E32: DSD I 1 Silver | F32: DSD I - B1 = (Silver) | I32: Student received ESOL services in the current school year
A33: 220 | B33: Ashland | E33: DSD II 2 Gold | F33: DSD II - B2 or higher = (Gold) | I33: Student received ESOL services in high school (in a prior school year)
A34: 223 | B34: Barnes | E34: Goeth 1 Silver | F34: Goethe Institute - B1 or higher = (Silver) | I34: Student received ESOL services prior to high school
A35: 224 | B35: Clifton-Clyde | E35: Goeth 2 Gold | F35: Goethe Institute - B2 or higher = (Gold) | I35: Student is not an English 1 speaker and has never received ESOL services
A36: 225 | B36: Fowler | E36: InterA 1 Silver | F36: IB Language A - 3 or higher, but less than 4 = (Silver) | I36: Student's first language is English
A37: 226 | B37: Meade | E37: InterA 2 Gold | F37: IB Language A - 4 or higher = (Gold)
A38: 227 | B38: Hodgeman County Schools | E38: InterBH 1 Silver | F38: IB Language B Higher Level - 4 or higher, but less than 5 = (Silver)
A39: 229 | B39: Blue Valley | E39: InterBH 2 Gold | F39: IB Language B Higher Level - 5 or higher = (Gold)
A40: 230 | B40: Spring Hill | E40: InterBS 1 Silver | F40: IB Language B Standard Level - 4 or higher, but less than 6 = (Silver)
...

Sheet How to add to the dropdown list
